BEGIN:VCALENDAR
VERSION:2.0
PRODID:-//夢野カブ OFFICIAL SITE - ECPv6.15.20//NONSGML v1.0//EN
CALSCALE:GREGORIAN
METHOD:PUBLISH
X-WR-CALNAME:夢野カブ OFFICIAL SITE
X-ORIGINAL-URL:https://yumenokabu.com
X-WR-CALDESC:夢野カブ OFFICIAL SITE のイベント
REFRESH-INTERVAL;VALUE=DURATION:PT1H
X-Robots-Tag:noindex
X-PUBLISHED-TTL:PT1H
BEGIN:VTIMEZONE
TZID:Asia/Tokyo
BEGIN:STANDARD
TZOFFSETFROM:+0900
TZOFFSETTO:+0900
TZNAME:JST
DTSTART:20240101T000000
END:STANDARD
END:VTIMEZONE
BEGIN:VEVENT
DTSTART;TZID=Asia/Tokyo:20250108T080000
DTEND;TZID=Asia/Tokyo:20250108T170000
DTSTAMP:20260420T065217
CREATED:20241125T122825Z
LAST-MODIFIED:20241125T123456Z
UID:1831-1736323200-1736355600@yumenokabu.com
SUMMARY:怒涛の道東5DAYS 2025冬の陣@川湯温泉ユナイト
DESCRIPTION:夢野カブ \n藤田たかひろ \nOPEN 19:00\nSTART 20:00 \nチャージ：投げ銭
URL:https://yumenokabu.com/event/1831/
LOCATION:川湯温泉 ユナイト\, 〒088-3465 北海道川上郡弟子屈町川湯温泉１丁目４−２４
CATEGORIES:北海道
ATTACH;FMTTYPE=image/jpeg:https://yumenokabu.com/wp-content/uploads/2024/11/S__7389186.jpg
END:VEVENT
BEGIN:VEVENT
DTSTART;TZID=Asia/Tokyo:20250109T203000
DTEND;TZID=Asia/Tokyo:20250109T203000
DTSTAMP:20260420T065217
CREATED:20241125T123411Z
LAST-MODIFIED:20241125T134126Z
UID:1835-1736454600-1736454600@yumenokabu.com
SUMMARY:怒涛の道東5DAYS 2025冬の陣@帯広 Boogie Nights
DESCRIPTION:夢野カブ \n藤田たかひろ \nOPEN 19:45\nSTART 20:30 \nチャージ：2\,000円＆投げ銭（1ドリンク付き）
URL:https://yumenokabu.com/event/1835/
LOCATION:帯広 Boogie Nights\, 〒080-0030 北海道帯広市大通南１０丁目 クラウンビルB1
CATEGORIES:北海道
ATTACH;FMTTYPE=image/jpeg:https://yumenokabu.com/wp-content/uploads/2024/11/S__7389187.jpg
END:VEVENT
BEGIN:VEVENT
DTSTART;TZID=Asia/Tokyo:20250111T193000
DTEND;TZID=Asia/Tokyo:20250111T193000
DTSTAMP:20260420T065217
CREATED:20241125T143714Z
LAST-MODIFIED:20250115T235843Z
UID:1840-1736623800-1736623800@yumenokabu.com
SUMMARY:怒涛の道東5DAYS 2025冬の陣@釧路ガソリンアレイ
DESCRIPTION:夢野カブ \nMerry & Harry \nCHOKING OVER \nOPEN 19:00\nSTART 19:30 \nチャージ：\n前売 3\,000円（1ドリンク付き）\n当日 3\,500円（1ドリンク付き）
URL:https://yumenokabu.com/event/1840/
LOCATION:釧路 ガソリンアレイ\, 〒085-0012 北海道釧路市川上町4-1-11 野口ビル2階
CATEGORIES:北海道
ATTACH;FMTTYPE=image/jpeg:https://yumenokabu.com/wp-content/uploads/2025/01/S__9617442.jpg
END:VEVENT
BEGIN:VEVENT
DTSTART;TZID=Asia/Tokyo:20250112T200000
DTEND;TZID=Asia/Tokyo:20250112T200000
DTSTAMP:20260420T065217
CREATED:20241126T161326Z
LAST-MODIFIED:20241126T161728Z
UID:1843-1736712000-1736712000@yumenokabu.com
SUMMARY:怒涛の道東5DAYS 2025冬の陣@根室JUNK　ジャンク天国 #92
DESCRIPTION:夢野カブ \n藤田たかひろ \nボブの田舎店 \nOPEN 19:30\nSTART 20:00 \nチャージ：3\,000円
URL:https://yumenokabu.com/event/1843/
LOCATION:根室 Diners cafe JUNK\, 〒087-0051 北海道根室市緑町3-14
CATEGORIES:北海道
ATTACH;FMTTYPE=image/jpeg:https://yumenokabu.com/wp-content/uploads/2024/11/S__7389189.jpg
END:VEVENT
BEGIN:VEVENT
DTSTART;TZID=Asia/Tokyo:20250113T190000
DTEND;TZID=Asia/Tokyo:20250113T190000
DTSTAMP:20260420T065217
CREATED:20241127T022054Z
LAST-MODIFIED:20241127T023105Z
UID:1848-1736794800-1736794800@yumenokabu.com
SUMMARY:怒涛の道東5DAYS 2025冬の陣@ブルーチッパー
DESCRIPTION:夢野カブ \n藤田たかひろ \nO.A.\nMANABU&KYOHEI \n大西 \nブルドック モンキー \nOPEN 18:30\nSTART 19:00 \nチャージ：\n前売 2\,500円（1ドリンク付き）\n当日 3\,000円（1ドリンク付き）
URL:https://yumenokabu.com/event/1848/
LOCATION:北見 Blue Chipper\, 〒090-0044 北海道北見市北４条西3-1-2 伊谷ビル ‎B1F（モスバーガー 地下１階）
CATEGORIES:北海道
ATTACH;FMTTYPE=image/jpeg:https://yumenokabu.com/wp-content/uploads/2024/11/S__7593986.jpg
END:VEVENT
BEGIN:VEVENT
DTSTART;TZID=Asia/Tokyo:20250114T200000
DTEND;TZID=Asia/Tokyo:20250114T200000
DTSTAMP:20260420T065217
CREATED:20241127T060606Z
LAST-MODIFIED:20241128T110125Z
UID:1882-1736884800-1736884800@yumenokabu.com
SUMMARY:YUMENO KABU TOUR 2025 ~Back Beat+~ YUMENO SUZUKI@美瑛 HARMIT
DESCRIPTION:夢野カブwith鈴木裕 \nO.A. HAAHEE \nOPEN 19:30\nSTART 20:00 \nチャージ：3\,000円（1drink付）
URL:https://yumenokabu.com/event/1882/
LOCATION:美瑛 Shot bar HERMIT\, 〒071-0208 北海道上川郡美瑛町本町2-6-1
CATEGORIES:北海道
ATTACH;FMTTYPE=image/jpeg:https://yumenokabu.com/wp-content/uploads/2024/11/S__7684113.jpg
END:VEVENT
BEGIN:VEVENT
DTSTART;TZID=Asia/Tokyo:20250116T193000
DTEND;TZID=Asia/Tokyo:20250116T193000
DTSTAMP:20260420T065217
CREATED:20241127T060925Z
LAST-MODIFIED:20241128T110056Z
UID:1885-1737055800-1737055800@yumenokabu.com
SUMMARY:YUMENO KABU TOUR 2025 ~Back Beat+~ YUMENO SUZUKI@苫小牧 JAM
DESCRIPTION:夢野カブwith鈴木裕 \nO.A. LosMuds \nOPEN 19:00\nSTART 19:30 \nチャージ：投げ銭
URL:https://yumenokabu.com/event/1885/
LOCATION:苫小牧 Rock Bar JAM\, 〒053-0023 北海道苫小牧市錦町1-2
CATEGORIES:北海道
ATTACH;FMTTYPE=image/jpeg:https://yumenokabu.com/wp-content/uploads/2024/11/S__7684114.jpg
END:VEVENT
BEGIN:VEVENT
DTSTART;TZID=Asia/Tokyo:20250117T193000
DTEND;TZID=Asia/Tokyo:20250117T193000
DTSTAMP:20260420T065217
CREATED:20241127T061138Z
LAST-MODIFIED:20241128T110019Z
UID:1888-1737142200-1737142200@yumenokabu.com
SUMMARY:YUMENO KABU TOUR 2025 ~Back Beat+~ YUMENO SUZUKI@小樽 キッチンぐるぐる
DESCRIPTION:夢野カブwith鈴木裕 \nOPEN 19:00\nSTART 19:30 \nチャージ：3\,000円 +1drink
URL:https://yumenokabu.com/event/1888/
LOCATION:小樽 キッチンぐるぐる\, 〒047-0021 北海道小樽市入船１丁目６−１６
CATEGORIES:北海道
ATTACH;FMTTYPE=image/jpeg:https://yumenokabu.com/wp-content/uploads/2024/11/S__7692290.jpg
END:VEVENT
BEGIN:VEVENT
DTSTART;TZID=Asia/Tokyo:20250118T190000
DTEND;TZID=Asia/Tokyo:20250118T190000
DTSTAMP:20260420T065217
CREATED:20241127T061507Z
LAST-MODIFIED:20241128T105859Z
UID:1891-1737226800-1737226800@yumenokabu.com
SUMMARY:YUMENO KABU TOUR 2025 ~Back Beat+~ YUMENO SUZUKI@恵庭 MOJO HAND
DESCRIPTION:夢野カブwith鈴木裕 \nOPEN 18:30\nSTART 19:00 \nチャージ：3\,000円（1drink付）
URL:https://yumenokabu.com/event/1891/
LOCATION:恵庭 MOJO HAND\, 〒061-1448 北海道恵庭市相生町１４２
CATEGORIES:北海道
ATTACH;FMTTYPE=image/jpeg:https://yumenokabu.com/wp-content/uploads/2024/11/S__7692291.jpg
END:VEVENT
BEGIN:VEVENT
DTSTART;TZID=Asia/Tokyo:20250119T190000
DTEND;TZID=Asia/Tokyo:20250119T190000
DTSTAMP:20260420T065217
CREATED:20241127T062018Z
LAST-MODIFIED:20241128T105855Z
UID:1895-1737313200-1737313200@yumenokabu.com
SUMMARY:YUMENO KABU TOUR 2025 ~Back Beat+~ YUMENO SUZUKI@札幌 平岸 フライアーパーク
DESCRIPTION:夢野カブwith鈴木裕 \nOPEN 18:30\nSTART 19:00 \nチャージ：3\,000円 +1drink
URL:https://yumenokabu.com/event/1895/
LOCATION:札幌 平岸 フライアーパーク\, 〒062-0934 北海道札幌市豊平区平岸４条7-12-10 Y's City BLD 1F
CATEGORIES:北海道
ATTACH;FMTTYPE=image/jpeg:https://yumenokabu.com/wp-content/uploads/2024/11/S__7692295.jpg
END:VEVENT
BEGIN:VEVENT
DTSTART;TZID=Asia/Tokyo:20250120T210000
DTEND;TZID=Asia/Tokyo:20250120T210000
DTSTAMP:20260420T065217
CREATED:20250116T134228Z
LAST-MODIFIED:20250116T142048Z
UID:2056-1737406800-1737406800@yumenokabu.com
SUMMARY:Let's 宿命 ~YUMENO KABU TOUR 2005 Back Beat+~
DESCRIPTION:夢野カブ \nCGK \nユージとタカミツ \nJKC \nOPEN 20:00\nSTART 21:00 \nチャージ：2\,000円 +1drink order
URL:https://yumenokabu.com/event/2056/
LOCATION:札幌 ネオ酒場 WALTS\, 〒060-0062 北海道札幌市中央区南２条西７丁目 M’S SPACE 2F
CATEGORIES:北海道
ATTACH;FMTTYPE=image/jpeg:https://yumenokabu.com/wp-content/uploads/2025/01/S__9797641.jpg
END:VEVENT
BEGIN:VEVENT
DTSTART;TZID=Asia/Tokyo:20250125T190000
DTEND;TZID=Asia/Tokyo:20250125T190000
DTSTAMP:20260420T065217
CREATED:20241127T055620Z
LAST-MODIFIED:20241220T082049Z
UID:1874-1737831600-1737831600@yumenokabu.com
SUMMARY:違和斉唱〜名古屋・御器所編〜 THE END×夢野カブ 2マンLIVE
DESCRIPTION:THE END \n夢野カブ \nOPEN 18:00\nSTART 19:00 \nチャージ：\n前売 2\,500円\n当日 3\,000円
URL:https://yumenokabu.com/event/1874/
LOCATION:御器所 なんや\, 〒466-0022 愛知県名古屋市昭和区塩付通1-47-4
CATEGORIES:中部
ATTACH;FMTTYPE=image/jpeg:https://yumenokabu.com/wp-content/uploads/2024/12/S__8618001.jpg
END:VEVENT
BEGIN:VEVENT
DTSTART;TZID=Asia/Tokyo:20250126T173000
DTEND;TZID=Asia/Tokyo:20250126T173000
DTSTAMP:20260420T065217
CREATED:20241127T060225Z
LAST-MODIFIED:20241220T082308Z
UID:1878-1737912600-1737912600@yumenokabu.com
SUMMARY:果てしなき滑走路～旅情編・塩尻～
DESCRIPTION:夢野カブ \n木之俣ククル a.k.a. The End \nSpecial guest TERRY \nOPEN 17:00\nSTART 17:30 \nチャージ：\n前売 3\,000円\n当日 3\,500円
URL:https://yumenokabu.com/event/1878/
LOCATION:塩尻 Bar On the Road\, 〒399-0703 長野県塩尻市広丘高出１８３１−６
CATEGORIES:中部
ATTACH;FMTTYPE=image/jpeg:https://yumenokabu.com/wp-content/uploads/2024/12/S__8462346.jpg
END:VEVENT
BEGIN:VEVENT
DTSTART;TZID=Asia/Tokyo:20250129T193000
DTEND;TZID=Asia/Tokyo:20250129T193000
DTSTAMP:20260420T065217
CREATED:20250107T232944Z
LAST-MODIFIED:20250107T232944Z
UID:1997-1738179000-1738179000@yumenokabu.com
SUMMARY:TOUR2025 REAL REAL GONE !
DESCRIPTION:夢野カブ \nOPEN 19:00\nSTART 19:30 \nチャージ：2\,500円 +1drink
URL:https://yumenokabu.com/event/tour2025-real-real-gone/
LOCATION:京都 ZAC BARAN\, 〒606-8392 京都市左京区聖護院山王町18 メタボ岡崎B1F
CATEGORIES:近畿
ATTACH;FMTTYPE=image/jpeg:https://yumenokabu.com/wp-content/uploads/2025/01/S__9175046.jpg
END:VEVENT
BEGIN:VEVENT
DTSTART;TZID=Asia/Tokyo:20250130T184500
DTEND;TZID=Asia/Tokyo:20250130T184500
DTSTAMP:20260420T065217
CREATED:20241128T063504Z
LAST-MODIFIED:20250107T233306Z
UID:1899-1738262700-1738262700@yumenokabu.com
SUMMARY:2025solo act! Real Real Gone ! @東天満 Bar 303
DESCRIPTION:夢野カブ \nw/ 木村俊章 \nO.A./ マナベタイキ（漫談） \nOPEN 18:00\nSTART 18:30 \nチャージ：2\,500円 +1drink
URL:https://yumenokabu.com/event/1899/
LOCATION:東天満 Bar 303\, 〒530-0037 大阪府大阪市北区松ケ枝町7-4 第2田渕ビル1F
CATEGORIES:近畿
ATTACH;FMTTYPE=image/jpeg:https://yumenokabu.com/wp-content/uploads/2025/01/S__9240578.jpg
END:VEVENT
END:VCALENDAR