BEGIN:VCALENDAR
VERSION:2.0
PRODID:-//夢野カブ OFFICIAL SITE - ECPv6.15.20//NONSGML v1.0//EN
CALSCALE:GREGORIAN
METHOD:PUBLISH
X-WR-CALNAME:夢野カブ OFFICIAL SITE
X-ORIGINAL-URL:https://yumenokabu.com
X-WR-CALDESC:夢野カブ OFFICIAL SITE のイベント
REFRESH-INTERVAL;VALUE=DURATION:PT1H
X-Robots-Tag:noindex
X-PUBLISHED-TTL:PT1H
BEGIN:VTIMEZONE
TZID:Asia/Tokyo
BEGIN:STANDARD
TZOFFSETFROM:+0900
TZOFFSETTO:+0900
TZNAME:JST
DTSTART:20250101T000000
END:STANDARD
END:VTIMEZONE
BEGIN:VEVENT
DTSTART;TZID=Asia/Tokyo:20260201T183000
DTEND;TZID=Asia/Tokyo:20260201T183000
DTSTAMP:20260423T004727
CREATED:20260125T060645Z
LAST-MODIFIED:20260202T060723Z
UID:3683-1769970600-1769970600@yumenokabu.com
SUMMARY:Bravo Chip Live! YUMENO KABU TOUR 2026 ~CIRCUS SIDER~@稲沢 カフェ・サルーテ
DESCRIPTION:夢野カブ \nOPEN 18:00\nSTART 18:30 \nチャージ：投げ銭+1drink
URL:https://yumenokabu.com/event/3683/
LOCATION:稲沢 カフェサルーテ\, 〒492-8215 愛知県稲沢市大塚北９丁目５８−１
CATEGORIES:中部
ATTACH;FMTTYPE=image/jpeg:https://yumenokabu.com/wp-content/uploads/2026/01/S__32063495.jpg
END:VEVENT
BEGIN:VEVENT
DTSTART;TZID=Asia/Tokyo:20260203T200000
DTEND;TZID=Asia/Tokyo:20260203T200000
DTSTAMP:20260423T004727
CREATED:20260202T061516Z
LAST-MODIFIED:20260202T061650Z
UID:3688-1770148800-1770148800@yumenokabu.com
SUMMARY:夢野カブSolo＠四日市 VEEJAY
DESCRIPTION:夢野カブ \nOPEN 19:00\nSTART 20:00 \nチャージ：2\,500円
URL:https://yumenokabu.com/event/3688/
LOCATION:四日市 Jazz Spot VEEJAY\, 〒510-0074 三重県四日市市鵜の森１丁目２−１５ B1F
CATEGORIES:近畿
ATTACH;FMTTYPE=image/jpeg:https://yumenokabu.com/wp-content/uploads/2026/01/S__32505865.jpg
END:VEVENT
BEGIN:VEVENT
DTSTART;TZID=Asia/Tokyo:20260205T190000
DTEND;TZID=Asia/Tokyo:20260205T190000
DTSTAMP:20260423T004727
CREATED:20260202T055935Z
LAST-MODIFIED:20260203T074930Z
UID:3679-1770318000-1770318000@yumenokabu.com
SUMMARY:夢野カブLIVE YUMENO KABU TOUR 2026 ~CIRCUS SIDER~ @名張 tali
DESCRIPTION:夢野カブ \nO.A.\nテツオロック \n大知キングしんいちろう \nOPEN 18:00\nSTART 19:00 \nチャージ：3\,000円 +order
URL:https://yumenokabu.com/event/3679/
LOCATION:名張 tali cafe & meal\, 〒518-0603 三重県名張市西原町２４６８−６
CATEGORIES:近畿
ATTACH;FMTTYPE=image/jpeg:https://yumenokabu.com/wp-content/uploads/2025/12/S__31113222.jpg
END:VEVENT
BEGIN:VEVENT
DTSTART;TZID=Asia/Tokyo:20260206T193000
DTEND;TZID=Asia/Tokyo:20260206T193000
DTSTAMP:20260423T004727
CREATED:20260202T062948Z
LAST-MODIFIED:20260202T062948Z
UID:3696-1770406200-1770406200@yumenokabu.com
SUMMARY:YUMENO KABU TOUR 2026 CIRCUS SIDER＠御器所 なんや
DESCRIPTION:夢野カブ \nOPEN 18:30\nSTART 19:30 \nチャージ：2\,500円 +1drink
URL:https://yumenokabu.com/event/3696/
LOCATION:御器所 なんや\, 〒466-0022 愛知県名古屋市昭和区塩付通1-47-4
CATEGORIES:中部
ATTACH;FMTTYPE=image/jpeg:https://yumenokabu.com/wp-content/uploads/2026/01/S__32505864.jpg
END:VEVENT
BEGIN:VEVENT
DTSTART;TZID=Asia/Tokyo:20260207T183000
DTEND;TZID=Asia/Tokyo:20260207T183000
DTSTAMP:20260423T004727
CREATED:20251206T064249Z
LAST-MODIFIED:20260223T064107Z
UID:3563-1770489000-1770489000@yumenokabu.com
SUMMARY:夢擂屋LIVE ＠焼津 夢擂屋
DESCRIPTION:夢野カブ \nPAKI DE SAT \nO.A. コウ てつ \nOPEN 18:00\nSTART 18:30 \nチャージ：3\,000円  要オーダー
URL:https://yumenokabu.com/event/3563/
LOCATION:焼津 夢擂屋むずりや\, 〒425-0091 静岡県焼津市八楠３丁目１１−１８
CATEGORIES:中部
ATTACH;FMTTYPE=image/jpeg:https://yumenokabu.com/wp-content/uploads/2025/12/S__29638658.jpg
END:VEVENT
BEGIN:VEVENT
DTSTART;TZID=Asia/Tokyo:20260208T193000
DTEND;TZID=Asia/Tokyo:20260208T193000
DTSTAMP:20260423T004727
CREATED:20260202T064215Z
LAST-MODIFIED:20260202T064215Z
UID:3700-1770579000-1770579000@yumenokabu.com
SUMMARY:夢野カブ×リトルキヨシ＠小田原 ジーズキャフェ
DESCRIPTION:夢野カブ \nリトルキヨシ \nOPEN 18:30\nSTART 19:30 \nチャージ：3\,000円 +1ドリンクオーダー
URL:https://yumenokabu.com/event/3700/
LOCATION:小田原 ジーズキャフェ\, 〒250-0874 神奈川県小田原市鴨宮３４２−７
CATEGORIES:関東
ATTACH;FMTTYPE=image/jpeg:https://yumenokabu.com/wp-content/uploads/2026/02/S__33316875.jpg
END:VEVENT
BEGIN:VEVENT
DTSTART;TZID=Asia/Tokyo:20260210T190000
DTEND;TZID=Asia/Tokyo:20260210T190000
DTSTAMP:20260423T004727
CREATED:20260202T072929Z
LAST-MODIFIED:20260202T072929Z
UID:3712-1770750000-1770750000@yumenokabu.com
SUMMARY:YUMENO KABU Bravo Chip! ONE MAN LIVE@湘南台 中華三番
DESCRIPTION:夢野カブ \nOPEN 18:00\nSTART 19:00 \nチャージ：1\,000円以上よりの投げ銭+要オーダー
URL:https://yumenokabu.com/event/3712/
LOCATION:湘南台 中華三番\, 〒252-0804 神奈川県藤沢市湘南台1-21-20
CATEGORIES:関東
ATTACH;FMTTYPE=image/jpeg:https://yumenokabu.com/wp-content/uploads/2026/02/S__32964620.jpg
END:VEVENT
BEGIN:VEVENT
DTSTART;TZID=Asia/Tokyo:20260211T190000
DTEND;TZID=Asia/Tokyo:20260211T190000
DTSTAMP:20260423T004727
CREATED:20260202T072610Z
LAST-MODIFIED:20260202T072610Z
UID:3710-1770836400-1770836400@yumenokabu.com
SUMMARY:LIVE＠横須賀中央 Rock Bar FUCK YEAH!
DESCRIPTION:夢野カブ \nムスキ・アルバボ・リー \nジョニキチ \nOPEN 18:00\nSTART 19:00 \nチャージ：2\,500円（1drink込）
URL:https://yumenokabu.com/event/3710/
LOCATION:横須賀中央 Rock Bar FUCK YEAH!\, 〒238-0007 神奈川県横須賀市若松町2-8 セントラルホテル B1F
CATEGORIES:関東
ATTACH;FMTTYPE=image/jpeg:https://yumenokabu.com/wp-content/uploads/2026/02/S__33071114.jpg
END:VEVENT
BEGIN:VEVENT
DTSTART;TZID=Asia/Tokyo:20260214T200000
DTEND;TZID=Asia/Tokyo:20260214T200000
DTSTAMP:20260423T004727
CREATED:20260204T120047Z
LAST-MODIFIED:20260204T120127Z
UID:3719-1771099200-1771099200@yumenokabu.com
SUMMARY:萩の月 NO! PRESENTS ~FUNAOKA BAY BLUES~@心斎橋 大きな輪
DESCRIPTION:夢野カブ \nちっちのじ \nOPEN 19:30\nSTART 20:00 \nチャージ：2\,500円（ドリンク別途）
URL:https://yumenokabu.com/event/3719/
LOCATION:心斎橋 大きな輪\, 〒542-0085 大阪府大阪市中央区心斎橋筋2-3-5
CATEGORIES:近畿
ATTACH;FMTTYPE=image/jpeg:https://yumenokabu.com/wp-content/uploads/2025/12/S__30957581.jpg
END:VEVENT
BEGIN:VEVENT
DTSTART;TZID=Asia/Tokyo:20260215T193000
DTEND;TZID=Asia/Tokyo:20260215T193000
DTSTAMP:20260423T004727
CREATED:20260202T073611Z
LAST-MODIFIED:20260202T074019Z
UID:3716-1771183800-1771183800@yumenokabu.com
SUMMARY:LOVE&PEACE 夢野カブ One Man Live!@奈良 点心YOCIJI
DESCRIPTION:夢野カブ \nOPEN 19:00\nSTART 19:30 \nチャージ：2\,500円 +2orders
URL:https://yumenokabu.com/event/3716/
LOCATION:奈良 点心YOCIJI\, 〒630-8121 奈良県奈良市三条宮前町2-2
CATEGORIES:近畿
ATTACH;FMTTYPE=image/jpeg:https://yumenokabu.com/wp-content/uploads/2026/02/S__32841739.jpg
END:VEVENT
BEGIN:VEVENT
DTSTART;TZID=Asia/Tokyo:20260220T200000
DTEND;TZID=Asia/Tokyo:20260220T200000
DTSTAMP:20260423T004727
CREATED:20260202T061121Z
LAST-MODIFIED:20260202T061214Z
UID:3685-1771617600-1771617600@yumenokabu.com
SUMMARY:YUMENO KABU TOUR 2026 CIRCUS SIDER@富山 高岡 GOOD FELLOWS
DESCRIPTION:夢野カブ \n杉田敏晴 \nMOJORHYTHM \nOPEN 19:30\nSTART 20:00 \nチャージ：\n前売 2\,500円 +1drink\n当日 3\,000円 +1drink
URL:https://yumenokabu.com/event/3685/
LOCATION:富山 高岡 GOOD FELLOWS\, 〒933-0029 富山県高岡市御旅屋町１５ B1 オタヤビル 6SKK
CATEGORIES:中部
ATTACH;FMTTYPE=image/jpeg:https://yumenokabu.com/wp-content/uploads/2026/01/S__32677891.jpg
END:VEVENT
BEGIN:VEVENT
DTSTART;TZID=Asia/Tokyo:20260222T190000
DTEND;TZID=Asia/Tokyo:20260222T190000
DTSTAMP:20260423T004727
CREATED:20260202T070721Z
LAST-MODIFIED:20260223T045255Z
UID:3703-1771786800-1771786800@yumenokabu.com
SUMMARY:YUMENO KABU SOLO ACT TOUR 2026 CIRCUS SIDER@金沢 JealousGuy
DESCRIPTION:夢野カブ \nw/ ザ・儲カルズ \nOPEN 18:00\nSTART 19:00 \nチャージ：\n前売 3\,000円 +1drink\n当日 3\,500円 +1drink
URL:https://yumenokabu.com/event/3703/
LOCATION:金沢 JealousGuy\, 〒920-0981 石川県金沢市片町２丁目１３−１１ ミリオン片町ビル ２Ｆ
CATEGORIES:中部
ATTACH;FMTTYPE=image/jpeg:https://yumenokabu.com/wp-content/uploads/2026/02/S__34586649.jpg
END:VEVENT
BEGIN:VEVENT
DTSTART;TZID=Asia/Tokyo:20260226T200000
DTEND;TZID=Asia/Tokyo:20260226T200000
DTSTAMP:20260423T004727
CREATED:20260223T054532Z
LAST-MODIFIED:20260223T054532Z
UID:3770-1772136000-1772136000@yumenokabu.com
SUMMARY:突然愛の投げ銭@西木屋町 USAGI
DESCRIPTION:夢野カブ with Ito \nミヤガワ修虫（ザ・ノックダウンズ） \n山本将弘 \nOPEN 19:00\nSTART 20:00 \nチャージ：愛の投げ銭+order
URL:https://yumenokabu.com/event/3770/
LOCATION:西木屋町 BAR USAGI\, 〒600-8018 京都府京都市下京区 西木屋町仏光寺上ル市之町260-1 2F
CATEGORIES:近畿
ATTACH;FMTTYPE=image/jpeg:https://yumenokabu.com/wp-content/uploads/2026/02/S__34365445.jpg
END:VEVENT
BEGIN:VEVENT
DTSTART;TZID=Asia/Tokyo:20260228T193000
DTEND;TZID=Asia/Tokyo:20260228T193000
DTSTAMP:20260423T004727
CREATED:20260202T073238Z
LAST-MODIFIED:20260202T073319Z
UID:3714-1772307000-1772307000@yumenokabu.com
SUMMARY:無宗教な奴ら VOL.7@三鷹 BAYOU GATE
DESCRIPTION:夢野カブ \nナカムラ♠︎ \nOPEN 19:00\nSTART 19:30 \nチャージ：3\,000円 +1d三鷹
URL:https://yumenokabu.com/event/3714/
LOCATION:三鷹 BAYOU GATE\, 〒180-0006 東京都武蔵野市中町１丁目１７−２
CATEGORIES:関東
ATTACH;FMTTYPE=image/jpeg:https://yumenokabu.com/wp-content/uploads/2026/02/S__32964619.jpg
END:VEVENT
END:VCALENDAR