BEGIN:VCALENDAR
VERSION:2.0
PRODID:-//夢野カブ OFFICIAL SITE - ECPv6.15.20//NONSGML v1.0//EN
CALSCALE:GREGORIAN
METHOD:PUBLISH
X-WR-CALNAME:夢野カブ OFFICIAL SITE
X-ORIGINAL-URL:https://yumenokabu.com
X-WR-CALDESC:夢野カブ OFFICIAL SITE のイベント
REFRESH-INTERVAL;VALUE=DURATION:PT1H
X-Robots-Tag:noindex
X-PUBLISHED-TTL:PT1H
BEGIN:VTIMEZONE
TZID:Asia/Tokyo
BEGIN:STANDARD
TZOFFSETFROM:+0900
TZOFFSETTO:+0900
TZNAME:JST
DTSTART:20250101T000000
END:STANDARD
END:VTIMEZONE
BEGIN:VEVENT
DTSTART;TZID=Asia/Tokyo:20260422T190000
DTEND;TZID=Asia/Tokyo:20260422T190000
DTSTAMP:20260422T043143
CREATED:20260324T035231Z
LAST-MODIFIED:20260324T035439Z
UID:3902-1776884400-1776884400@yumenokabu.com
SUMMARY:LIVE@浦添 groove
DESCRIPTION:  \n\n出演 ONDO UNIVERSITY（from 今帰仁）【嘉陽秀仁 うんてんまさなり・浜田進也・梅咲政孝】\nTHE BLUE BUCKS【夢野カブ・国吉亮・上地gacha一也・千葉薫】\nOPEN 19:00\nSTART 20:00\n前売 2\,500+1drink\n当日 3.000円 +1drink
URL:https://yumenokabu.com/event/3902/
LOCATION:浦添 groove\, 〒901-2122 沖縄県浦添市勢理客２丁目１８−１０
CATEGORIES:沖縄
ATTACH;FMTTYPE=image/png:https://yumenokabu.com/wp-content/uploads/2026/03/phonto.png
END:VEVENT
END:VCALENDAR