BEGIN:VCALENDAR
VERSION:2.0
PRODID:-//夢野カブ OFFICIAL SITE - ECPv6.15.20//NONSGML v1.0//EN
CALSCALE:GREGORIAN
METHOD:PUBLISH
X-WR-CALNAME:夢野カブ OFFICIAL SITE
X-ORIGINAL-URL:https://yumenokabu.com
X-WR-CALDESC:夢野カブ OFFICIAL SITE のイベント
REFRESH-INTERVAL;VALUE=DURATION:PT1H
X-Robots-Tag:noindex
X-PUBLISHED-TTL:PT1H
BEGIN:VTIMEZONE
TZID:Asia/Tokyo
BEGIN:STANDARD
TZOFFSETFROM:+0900
TZOFFSETTO:+0900
TZNAME:JST
DTSTART:20220101T000000
END:STANDARD
END:VTIMEZONE
BEGIN:VEVENT
DTSTART;TZID=Asia/Tokyo:20240708T200000
DTEND;TZID=Asia/Tokyo:20240708T200000
DTSTAMP:20260420T154638
CREATED:20240602T075147Z
LAST-MODIFIED:20240706T000004Z
UID:1279-1720468800-1720468800@yumenokabu.com
SUMMARY:怒涛の道東 TOUR 2024 夏の陣　ジャンク天国 vol.81
DESCRIPTION:夢野カブ \n藤田たかひろ \nボブの田舎店 \nOPEN 19:30\nSTART 20:00 \nチャージ：2\,000円
URL:https://yumenokabu.com/event/1279/
LOCATION:根室 Diners cafe JUNK\, 〒087-0051 北海道根室市緑町3-14
CATEGORIES:北海道
ATTACH;FMTTYPE=image/jpeg:https://yumenokabu.com/wp-content/uploads/2024/06/S__5308426.jpg
END:VEVENT
BEGIN:VEVENT
DTSTART;TZID=Asia/Tokyo:20240707T190000
DTEND;TZID=Asia/Tokyo:20240707T190000
DTSTAMP:20260420T154638
CREATED:20240602T074534Z
LAST-MODIFIED:20240704T042449Z
UID:1274-1720378800-1720378800@yumenokabu.com
SUMMARY:怒涛の道東 TOUR 2024 @川湯 森のホール
DESCRIPTION:夢野カブ \n藤田たかひろ \nOPEN 18:30\nSTART 19:00 \nチャージ：2\,500円
URL:https://yumenokabu.com/event/1274/
LOCATION:川湯 森のホール\, 〒088-3462 北海道川上郡弟子屈町川湯駅前２丁目１−２
CATEGORIES:北海道
ATTACH;FMTTYPE=image/jpeg:https://yumenokabu.com/wp-content/uploads/2024/06/S__5750804.jpg
END:VEVENT
BEGIN:VEVENT
DTSTART;TZID=Asia/Tokyo:20240706T193000
DTEND;TZID=Asia/Tokyo:20240706T193000
DTSTAMP:20260420T154638
CREATED:20240602T074220Z
LAST-MODIFIED:20240602T074330Z
UID:1271-1720294200-1720294200@yumenokabu.com
SUMMARY:怒涛の道東 TOUR 2024 @釧路ガソリンアレイ
DESCRIPTION:夢野カブ \n藤田たかひろ \nSpecial Guest\n川島ダビッドソン \nOPEN 19:00\nSTART 19:30 \nチャージ：2\,500円（別途1ドリンク500円）
URL:https://yumenokabu.com/event/1271/
LOCATION:釧路 ガソリンアレイ\, 〒085-0012 北海道釧路市川上町4-1-11 野口ビル2階
CATEGORIES:北海道
ATTACH;FMTTYPE=image/jpeg:https://yumenokabu.com/wp-content/uploads/2024/06/S__3686413_0.jpg
END:VEVENT
BEGIN:VEVENT
DTSTART;TZID=Asia/Tokyo:20240704T193000
DTEND;TZID=Asia/Tokyo:20240704T193000
DTSTAMP:20260420T154638
CREATED:20240629T090026Z
LAST-MODIFIED:20240629T090100Z
UID:1327-1720121400-1720121400@yumenokabu.com
SUMMARY:More Roll Over 60
DESCRIPTION:夢野カブ \nw/モジョマス \nOPEN 19:00\nSTART 19:30 \nチャージ：3\,000円 +1drink付き
URL:https://yumenokabu.com/event/1327/
LOCATION:恵庭 MOJO HAND\, 〒061-1448 北海道恵庭市相生町１４２
CATEGORIES:北海道
ATTACH;FMTTYPE=image/jpeg:https://yumenokabu.com/wp-content/uploads/2024/06/S__5947394.jpg
END:VEVENT
BEGIN:VEVENT
DTSTART;TZID=Asia/Tokyo:20240120T190000
DTEND;TZID=Asia/Tokyo:20240120T190000
DTSTAMP:20260420T154638
CREATED:20240106T034510Z
LAST-MODIFIED:20240106T034712Z
UID:792-1705777200-1705777200@yumenokabu.com
SUMMARY:2 MAN LIVE
DESCRIPTION:ユメノスズキ\n夢野カブ\n鈴木裕 \nぜんじろう \nOPEN 18:00\nSTART 19:00 \nチャージ：3\,000円+1drink（or LIVE TIME ¥2\,000 FREE DRINK）
URL:https://yumenokabu.com/event/792/
LOCATION:札幌 Food&Bar SALINAS\, 〒064-0806 北海道札幌市中央区南６条西３丁目６－２５プラザビル2 3F
CATEGORIES:北海道
ATTACH;FMTTYPE=image/jpeg:https://yumenokabu.com/wp-content/uploads/2024/01/S__148439047.jpg
END:VEVENT
BEGIN:VEVENT
DTSTART;TZID=Asia/Tokyo:20240119T193000
DTEND;TZID=Asia/Tokyo:20240119T193000
DTSTAMP:20260420T154638
CREATED:20231227T095426Z
LAST-MODIFIED:20231227T095657Z
UID:750-1705692600-1705692600@yumenokabu.com
SUMMARY:YUMENO KABU TOUR2024 ROLL OVER 60 One Man Show
DESCRIPTION:ユメノスズキ\n夢野カブ\n鈴木裕 \nOPEN 19:00\nSTART 19:30 \nチャージ：3\,000円+drink
URL:https://yumenokabu.com/event/750/
CATEGORIES:北海道
ATTACH;FMTTYPE=image/jpeg:https://yumenokabu.com/wp-content/uploads/2023/12/S__147210246_0.jpg
END:VEVENT
BEGIN:VEVENT
DTSTART;TZID=Asia/Tokyo:20240118T193000
DTEND;TZID=Asia/Tokyo:20240118T193000
DTSTAMP:20260420T154638
CREATED:20231227T094938Z
LAST-MODIFIED:20231227T095524Z
UID:747-1705606200-1705606200@yumenokabu.com
SUMMARY:YUMENO KABU TOUR2024 ROLL OVER 60 One Man Show
DESCRIPTION:ユメノスズキ\n夢野カブ\n鈴木裕 \nOPEN 19:00\nSTART 19:30 \nチャージ：投げ銭
URL:https://yumenokabu.com/event/747/
LOCATION:苫小牧 Rock Bar JAM\, 〒053-0023 北海道苫小牧市錦町1-2
CATEGORIES:北海道
ATTACH;FMTTYPE=image/jpeg:https://yumenokabu.com/wp-content/uploads/2023/12/S__147210244_0.jpg
END:VEVENT
BEGIN:VEVENT
DTSTART;TZID=Asia/Tokyo:20240116T193000
DTEND;TZID=Asia/Tokyo:20240116T193000
DTSTAMP:20260420T154638
CREATED:20231214T071722Z
LAST-MODIFIED:20231214T072631Z
UID:713-1705433400-1705433400@yumenokabu.com
SUMMARY:ユメノスズキ／良元優作
DESCRIPTION:良元優作（from大阪） \nユメノスズキ（夢野カブ×鈴木裕） \nOPEN 18:30\nSTART 19:30 \nチャージ：3\,000円+1drink
URL:https://yumenokabu.com/event/713/
LOCATION:恵庭 MOJO HAND\, 〒061-1448 北海道恵庭市相生町１４２
CATEGORIES:北海道
ATTACH;FMTTYPE=image/jpeg:https://yumenokabu.com/wp-content/uploads/2023/12/S__147046415_0.jpg
END:VEVENT
BEGIN:VEVENT
DTSTART;TZID=Asia/Tokyo:20240115T190000
DTEND;TZID=Asia/Tokyo:20240115T190000
DTSTAMP:20260420T154638
CREATED:20231214T071434Z
LAST-MODIFIED:20231214T071513Z
UID:709-1705345200-1705345200@yumenokabu.com
SUMMARY:小嶋トオル／良元優作／ユメノスズキ
DESCRIPTION:小嶋トオル \n良元優作（from大阪） \nユメノスズキ（夢野カブ×鈴木裕） \nOPEN 18:00\nSTART 19:00 \nチャージ：3\,000円 \n090-6698-8125（※ショートメールでお願いします）
URL:https://yumenokabu.com/event/709/
LOCATION:札幌 天狼星ドッグスター\, 〒064-0805 北海道札幌市中央区南５条西５丁目１１ モモヤビル
CATEGORIES:北海道
ATTACH;FMTTYPE=image/jpeg:https://yumenokabu.com/wp-content/uploads/2023/12/S__147046413_0.jpg
END:VEVENT
BEGIN:VEVENT
DTSTART;TZID=Asia/Tokyo:20240111T193000
DTEND;TZID=Asia/Tokyo:20240111T193000
DTSTAMP:20260420T154638
CREATED:20231214T074509Z
LAST-MODIFIED:20231214T074921Z
UID:725-1705001400-1705001400@yumenokabu.com
SUMMARY:怒涛の道東TOUR 2024 〜北見初夢編〜
DESCRIPTION:夢野カブ \n藤田たかひろ \nO.A.\nMANABU\n大西\nエリザベス\nりん＆ねころぶ \nOPEN 19:30\nSTART 20:00 \n前売3\,000円（1drink付）\n当日3\,500円（1drink付）
URL:https://yumenokabu.com/event/725/
LOCATION:北見 Blue Chipper\, 〒090-0044 北海道北見市北４条西3-1-2 伊谷ビル ‎B1F（モスバーガー 地下１階）
CATEGORIES:北海道
ATTACH;FMTTYPE=image/jpeg:https://yumenokabu.com/wp-content/uploads/2023/12/S__147046412_0.jpg
END:VEVENT
BEGIN:VEVENT
DTSTART;TZID=Asia/Tokyo:20240109T190000
DTEND;TZID=Asia/Tokyo:20240109T190000
DTSTAMP:20260420T154638
CREATED:20240109T072703Z
LAST-MODIFIED:20240109T073238Z
UID:802-1704826800-1704826800@yumenokabu.com
SUMMARY:涛の道東TOUR 2024 〜川湯初夢編〜
DESCRIPTION:夢野カブ \n藤田たかひろ \nSTART 19:00 \nチャージ：3\,000円　w1drink
URL:https://yumenokabu.com/event/802/
LOCATION:café NOBLE\, 〒088-3465 北海道川上郡弟子屈町川湯温泉１丁目４−８
CATEGORIES:北海道
ATTACH;FMTTYPE=image/jpeg:https://yumenokabu.com/wp-content/uploads/2023/12/S__147046406_0.jpg
END:VEVENT
BEGIN:VEVENT
DTSTART;TZID=Asia/Tokyo:20240106T193000
DTEND;TZID=Asia/Tokyo:20240106T193000
DTSTAMP:20260420T154638
CREATED:20231214T074838Z
LAST-MODIFIED:20240109T073213Z
UID:729-1704569400-1704569400@yumenokabu.com
SUMMARY:涛の道東TOUR 2024 〜新春初夢編〜
DESCRIPTION:夢野カブ \n藤田たかひろ \nボブの田舎店 \nOPEN 19:00\nSTART 19:30 \n前売3\,000円（with 1drink）\n当日3\,500円（with 1drink）
URL:https://yumenokabu.com/event/729/
LOCATION:釧路 ガソリンアレイ\, 〒085-0012 北海道釧路市川上町4-1-11 野口ビル2階
CATEGORIES:北海道
ATTACH;FMTTYPE=image/jpeg:https://yumenokabu.com/wp-content/uploads/2023/12/S__147046403_0.jpg
END:VEVENT
BEGIN:VEVENT
DTSTART;TZID=Asia/Tokyo:20230719T193000
DTEND;TZID=Asia/Tokyo:20230719T193000
DTSTAMP:20260420T154638
CREATED:20230703T054019Z
LAST-MODIFIED:20230703T055352Z
UID:248-1689795000-1689795000@yumenokabu.com
SUMMARY:ユメノスズキ
DESCRIPTION:夢野カブ\n鈴木裕 \nO.A. THEE POISON \nOPEN 19:00\nSTART 19:30 \n愛の投げ銭+order
URL:https://yumenokabu.com/event/248/
LOCATION:苫小牧 Rock Bar JAM\, 〒053-0023 北海道苫小牧市錦町1-2
CATEGORIES:北海道
ATTACH;FMTTYPE=image/jpeg:https://yumenokabu.com/wp-content/uploads/2023/07/S__126763011.jpg
END:VEVENT
BEGIN:VEVENT
DTSTART;TZID=Asia/Tokyo:20230718T200000
DTEND;TZID=Asia/Tokyo:20230718T200000
DTSTAMP:20260420T154638
CREATED:20230703T051615Z
LAST-MODIFIED:20230703T054529Z
UID:243-1689710400-1689710400@yumenokabu.com
SUMMARY:ユメノスズキ　〜Tour 2023〜 Rabbit's Delusion
DESCRIPTION:夢野カブ\n鈴木裕 \nOPEN 19:00\nSTART 20:00 \n¥2\,500（1ドリンク付き）
URL:https://yumenokabu.com/event/243/
LOCATION:美瑛 Shot bar HERMIT\, 〒071-0208 北海道上川郡美瑛町本町2-6-1
CATEGORIES:北海道
ATTACH;FMTTYPE=image/jpeg:https://yumenokabu.com/wp-content/uploads/2023/07/S__125804553.jpg
END:VEVENT
BEGIN:VEVENT
DTSTART;TZID=Asia/Tokyo:20230716T190000
DTEND;TZID=Asia/Tokyo:20230716T190000
DTSTAMP:20260420T154638
CREATED:20230703T050458Z
LAST-MODIFIED:20230703T050612Z
UID:238-1689534000-1689534000@yumenokabu.com
SUMMARY:生き残り・・・& Roll
DESCRIPTION:ユメノスズキ＆湊雅史\n夢野カブ\n鈴木裕\n湊雅史 \nふたりマルチーズロック\nもりと＆あかね \nOPEN 18:30\nSTAR 19:00 \n¥3\,000+order
URL:https://yumenokabu.com/event/238/
LOCATION:小樽 A.LIVE\, 〒047-0032 北海道小樽市花園3-6-9
CATEGORIES:北海道
ATTACH;FMTTYPE=image/jpeg:https://yumenokabu.com/wp-content/uploads/2023/07/S__125698063.jpg
END:VEVENT
BEGIN:VEVENT
DTSTART;TZID=Asia/Tokyo:20230715T190000
DTEND;TZID=Asia/Tokyo:20230715T190000
DTSTAMP:20260420T154638
CREATED:20230701T090744Z
LAST-MODIFIED:20230701T090809Z
UID:234-1689447600-1689447600@yumenokabu.com
SUMMARY:生き残り・・・& Roll
DESCRIPTION:ユメノスズキ＆湊雅史\n夢野カブ\n鈴木裕\n湊雅史 \nふたりマルチーズロック\nもりと＆あかね \nO.A. 亀岡寛明 \nOPEN 18:30\nSTAR 19:00 \n¥3\,000+order
URL:https://yumenokabu.com/event/234/
LOCATION:札幌 平岸 フライアーパーク\, 〒062-0934 北海道札幌市豊平区平岸４条7-12-10 Y's City BLD 1F
CATEGORIES:北海道
ATTACH;FMTTYPE=image/jpeg:https://yumenokabu.com/wp-content/uploads/2023/07/S__125698062.jpg
END:VEVENT
BEGIN:VEVENT
DTSTART;TZID=Asia/Tokyo:20230714T193000
DTEND;TZID=Asia/Tokyo:20230714T193000
DTSTAMP:20260420T154638
CREATED:20230701T085003Z
LAST-MODIFIED:20230701T085043Z
UID:230-1689363000-1689363000@yumenokabu.com
SUMMARY:夢野カブ  ふたりマルチーズロック
DESCRIPTION:夢野カブ\nふたりマルチーズロック（もりと＆あかね） \nOPEN 17:00\nSTART 19:30 \n投げ銭
URL:https://yumenokabu.com/event/230/
LOCATION:札幌 琉球処ちゅらうたや\, 〒060-0063 北海道札幌市中央区南３条西５丁目 三条三松ビルB1F
CATEGORIES:北海道
ATTACH;FMTTYPE=image/jpeg:https://yumenokabu.com/wp-content/uploads/2023/07/S__125698061.jpg
END:VEVENT
BEGIN:VEVENT
DTSTART;TZID=Asia/Tokyo:20230713T210000
DTEND;TZID=Asia/Tokyo:20230713T210000
DTSTAMP:20260420T154638
CREATED:20230701T084407Z
LAST-MODIFIED:20230703T055543Z
UID:226-1689282000-1689282000@yumenokabu.com
SUMMARY:LET'S 宿命
DESCRIPTION:夢野カブ\nJKC and more… \nOPEN 20:00\nSTART 21:00 \n¥2\,000
URL:https://yumenokabu.com/event/226/
LOCATION:札幌 ネオ酒場 WALTS\, 〒060-0062 北海道札幌市中央区南２条西７丁目 M’S SPACE 2F
CATEGORIES:北海道
ATTACH;FMTTYPE=image/jpeg:https://yumenokabu.com/wp-content/uploads/2023/07/S__125698059.jpg
END:VEVENT
BEGIN:VEVENT
DTSTART;TZID=Asia/Tokyo:20230711T190000
DTEND;TZID=Asia/Tokyo:20230711T190000
DTSTAMP:20260420T154638
CREATED:20230701T083029Z
LAST-MODIFIED:20230703T055611Z
UID:221-1689102000-1689102000@yumenokabu.com
SUMMARY:怒涛の道東6DAYS 2023 〜夏の陣〜 「酒のつまみは仲間と音楽vol.15
DESCRIPTION:夢野 カブ\n藤田 たかひろ\n田村薫 \nOPEN 18:30\nSTART 19:00 \n前売り　¥2\,500\n当日　¥3\,000\n※1ドリンク、おつまみ付き \n 
URL:https://yumenokabu.com/event/221/
LOCATION:網走 ステージワン\, 〒093-0014 北海道網走市南５条西1-12
CATEGORIES:北海道
ATTACH;FMTTYPE=image/jpeg:https://yumenokabu.com/wp-content/uploads/2023/07/S__125698058.jpg
END:VEVENT
BEGIN:VEVENT
DTSTART;TZID=Asia/Tokyo:20230710T190000
DTEND;TZID=Asia/Tokyo:20230710T190000
DTSTAMP:20260420T154638
CREATED:20230701T081020Z
LAST-MODIFIED:20230703T055656Z
UID:216-1689015600-1689015600@yumenokabu.com
SUMMARY:怒涛の道東6DAYS 2023 〜夏の陣〜
DESCRIPTION:夢野 カブ\n藤田 たかひろ \nOPEN 18:30\nSTART 19:00 \n¥2\,500（+1Drink order）
URL:https://yumenokabu.com/event/216/
LOCATION:川湯温泉 Darts Bar TANTO\, 〒088-3465 北海道川上郡弟子屈町川湯温泉1-2-30 川湯観光ホテル1F
CATEGORIES:北海道
ATTACH;FMTTYPE=image/jpeg:https://yumenokabu.com/wp-content/uploads/2023/07/S__125698057.jpg
END:VEVENT
BEGIN:VEVENT
DTSTART;TZID=Asia/Tokyo:20230709T200000
DTEND;TZID=Asia/Tokyo:20230709T200000
DTSTAMP:20260420T154638
CREATED:20230701T075343Z
LAST-MODIFIED:20230703T055725Z
UID:211-1688932800-1688932800@yumenokabu.com
SUMMARY:怒涛の道東6DAYS 2023 〜夏の陣〜　JUNK天国vol.59
DESCRIPTION:夢野 カブ\n藤田 たかひろ\nボブの田舎店 \nOPEN 19:30\nSTART 20:00 \n¥2\,000（+1ドリンクオーダー）
URL:https://yumenokabu.com/event/211/
LOCATION:根室 Diners cafe JUNK\, 〒087-0051 北海道根室市緑町3-14
CATEGORIES:北海道
ATTACH;FMTTYPE=image/jpeg:https://yumenokabu.com/wp-content/uploads/2023/07/S__125698056.jpg
END:VEVENT
BEGIN:VEVENT
DTSTART;TZID=Asia/Tokyo:20230708T193000
DTEND;TZID=Asia/Tokyo:20230708T193000
DTSTAMP:20260420T154638
CREATED:20230701T063221Z
LAST-MODIFIED:20230703T055746Z
UID:207-1688844600-1688844600@yumenokabu.com
SUMMARY:怒涛の道東6DAYS 2023 〜夏の陣〜
DESCRIPTION:夢野 カブ\n藤田 たかひろ \nOPEN 19:00\nSTART 19:30 \n¥2\,500（+1Drink order）
URL:https://yumenokabu.com/event/207/
LOCATION:釧路 ガソリンアレイ\, 〒085-0012 北海道釧路市川上町4-1-11 野口ビル2階
CATEGORIES:北海道
ATTACH;FMTTYPE=image/jpeg:https://yumenokabu.com/wp-content/uploads/2023/07/S__125698055.jpg
END:VEVENT
BEGIN:VEVENT
DTSTART;TZID=Asia/Tokyo:20230706T200000
DTEND;TZID=Asia/Tokyo:20230706T200000
DTSTAMP:20260420T154638
CREATED:20230701T062257Z
LAST-MODIFIED:20230703T055804Z
UID:199-1688673600-1688673600@yumenokabu.com
SUMMARY:怒涛の道東6DAYS 2023 〜夏の陣〜
DESCRIPTION:夢野 カブ\n藤田 たかひろ \nOPEN 19:30\nSTART 20:00 \n¥2\,000（ドリンクオーダー＋投げ銭） \n 
URL:https://yumenokabu.com/event/199/
LOCATION:帯広 ロッケンロールキャッツ\, 〒080-0012 北海道帯広市西２条南11-2-2 猫天ビル4F
CATEGORIES:北海道
ATTACH;FMTTYPE=image/jpeg:https://yumenokabu.com/wp-content/uploads/2023/07/S__125698054.jpg
END:VEVENT
BEGIN:VEVENT
DTSTART;TZID=Asia/Tokyo:20230705T193000
DTEND;TZID=Asia/Tokyo:20230705T193000
DTSTAMP:20260420T154638
CREATED:20230701T060404Z
LAST-MODIFIED:20230703T055903Z
UID:192-1688585400-1688585400@yumenokabu.com
SUMMARY:怒涛の道東6DAYS 2023 〜夏の陣〜
DESCRIPTION:夢野 カブ\n藤田 たかひろ \nO.A\nモッティーヌ\nりん&ねころぶ\nMANABU \nOPEN 19:00\nSTART 19:30 \n前売り ¥2\,500\n当日券 ¥3\,000 (1Drink付き) \n 
URL:https://yumenokabu.com/event/192/
LOCATION:北見 Blue Chipper\, 〒090-0044 北海道北見市北４条西3-1-2 伊谷ビル ‎B1F（モスバーガー 地下１階）
CATEGORIES:北海道
ATTACH;FMTTYPE=image/jpeg:https://yumenokabu.com/wp-content/uploads/2023/07/S__125698052.jpg
END:VEVENT
END:VCALENDAR