BEGIN:VCALENDAR
VERSION:2.0
PRODID:-//夢野カブ OFFICIAL SITE - ECPv6.15.20//NONSGML v1.0//EN
CALSCALE:GREGORIAN
METHOD:PUBLISH
X-WR-CALNAME:夢野カブ OFFICIAL SITE
X-ORIGINAL-URL:https://yumenokabu.com
X-WR-CALDESC:夢野カブ OFFICIAL SITE のイベント
REFRESH-INTERVAL;VALUE=DURATION:PT1H
X-Robots-Tag:noindex
X-PUBLISHED-TTL:PT1H
BEGIN:VTIMEZONE
TZID:Asia/Tokyo
BEGIN:STANDARD
TZOFFSETFROM:+0900
TZOFFSETTO:+0900
TZNAME:JST
DTSTART:20220101T000000
END:STANDARD
END:VTIMEZONE
BEGIN:VEVENT
DTSTART;TZID=Asia/Tokyo:20230709T200000
DTEND;TZID=Asia/Tokyo:20230709T200000
DTSTAMP:20260422T213839
CREATED:20230701T075343Z
LAST-MODIFIED:20230703T055725Z
UID:211-1688932800-1688932800@yumenokabu.com
SUMMARY:怒涛の道東6DAYS 2023 〜夏の陣〜　JUNK天国vol.59
DESCRIPTION:夢野 カブ\n藤田 たかひろ\nボブの田舎店 \nOPEN 19:30\nSTART 20:00 \n¥2\,000（+1ドリンクオーダー）
URL:https://yumenokabu.com/event/211/
LOCATION:根室 Diners cafe JUNK\, 〒087-0051 北海道根室市緑町3-14
CATEGORIES:北海道
ATTACH;FMTTYPE=image/jpeg:https://yumenokabu.com/wp-content/uploads/2023/07/S__125698056.jpg
END:VEVENT
BEGIN:VEVENT
DTSTART;TZID=Asia/Tokyo:20230708T193000
DTEND;TZID=Asia/Tokyo:20230708T193000
DTSTAMP:20260422T213839
CREATED:20230701T063221Z
LAST-MODIFIED:20230703T055746Z
UID:207-1688844600-1688844600@yumenokabu.com
SUMMARY:怒涛の道東6DAYS 2023 〜夏の陣〜
DESCRIPTION:夢野 カブ\n藤田 たかひろ \nOPEN 19:00\nSTART 19:30 \n¥2\,500（+1Drink order）
URL:https://yumenokabu.com/event/207/
LOCATION:釧路 ガソリンアレイ\, 〒085-0012 北海道釧路市川上町4-1-11 野口ビル2階
CATEGORIES:北海道
ATTACH;FMTTYPE=image/jpeg:https://yumenokabu.com/wp-content/uploads/2023/07/S__125698055.jpg
END:VEVENT
BEGIN:VEVENT
DTSTART;TZID=Asia/Tokyo:20230706T200000
DTEND;TZID=Asia/Tokyo:20230706T200000
DTSTAMP:20260422T213839
CREATED:20230701T062257Z
LAST-MODIFIED:20230703T055804Z
UID:199-1688673600-1688673600@yumenokabu.com
SUMMARY:怒涛の道東6DAYS 2023 〜夏の陣〜
DESCRIPTION:夢野 カブ\n藤田 たかひろ \nOPEN 19:30\nSTART 20:00 \n¥2\,000（ドリンクオーダー＋投げ銭） \n 
URL:https://yumenokabu.com/event/199/
LOCATION:帯広 ロッケンロールキャッツ\, 〒080-0012 北海道帯広市西２条南11-2-2 猫天ビル4F
CATEGORIES:北海道
ATTACH;FMTTYPE=image/jpeg:https://yumenokabu.com/wp-content/uploads/2023/07/S__125698054.jpg
END:VEVENT
BEGIN:VEVENT
DTSTART;TZID=Asia/Tokyo:20230705T193000
DTEND;TZID=Asia/Tokyo:20230705T193000
DTSTAMP:20260422T213839
CREATED:20230701T060404Z
LAST-MODIFIED:20230703T055903Z
UID:192-1688585400-1688585400@yumenokabu.com
SUMMARY:怒涛の道東6DAYS 2023 〜夏の陣〜
DESCRIPTION:夢野 カブ\n藤田 たかひろ \nO.A\nモッティーヌ\nりん&ねころぶ\nMANABU \nOPEN 19:00\nSTART 19:30 \n前売り ¥2\,500\n当日券 ¥3\,000 (1Drink付き) \n 
URL:https://yumenokabu.com/event/192/
LOCATION:北見 Blue Chipper\, 〒090-0044 北海道北見市北４条西3-1-2 伊谷ビル ‎B1F（モスバーガー 地下１階）
CATEGORIES:北海道
ATTACH;FMTTYPE=image/jpeg:https://yumenokabu.com/wp-content/uploads/2023/07/S__125698052.jpg
END:VEVENT
END:VCALENDAR