BEGIN:VCALENDAR
VERSION:2.0
PRODID:-//夢野カブ OFFICIAL SITE - ECPv6.15.20//NONSGML v1.0//EN
CALSCALE:GREGORIAN
METHOD:PUBLISH
X-WR-CALNAME:夢野カブ OFFICIAL SITE
X-ORIGINAL-URL:https://yumenokabu.com
X-WR-CALDESC:夢野カブ OFFICIAL SITE のイベント
REFRESH-INTERVAL;VALUE=DURATION:PT1H
X-Robots-Tag:noindex
X-PUBLISHED-TTL:PT1H
BEGIN:VTIMEZONE
TZID:Asia/Tokyo
BEGIN:STANDARD
TZOFFSETFROM:+0900
TZOFFSETTO:+0900
TZNAME:JST
DTSTART:20220101T000000
END:STANDARD
END:VTIMEZONE
BEGIN:VEVENT
DTSTART;TZID=Asia/Tokyo:20230723T193000
DTEND;TZID=Asia/Tokyo:20230723T193000
DTSTAMP:20260424T100407
CREATED:20230710T050043Z
LAST-MODIFIED:20230710T052908Z
UID:264-1690140600-1690140600@yumenokabu.com
SUMMARY:命運な奇数 vol.105 キトキトソウルミッション！Toyama Night
DESCRIPTION:夢野カブ\n福田ユウイチ＆後藤トシロウ\n詩野 \nOPEN 19:00\nSTART 19:30 \n¥3\,000+Order
URL:https://yumenokabu.com/event/264/
LOCATION:西荻窪 CLOP CLOP\, 〒167-0054 東京都杉並区松庵3-39-11 シティコープ西荻B1F
CATEGORIES:関東
ATTACH;FMTTYPE=image/jpeg:https://yumenokabu.com/wp-content/uploads/2023/07/S__126787587.jpg
END:VEVENT
BEGIN:VEVENT
DTSTART;TZID=Asia/Tokyo:20230724T080000
DTEND;TZID=Asia/Tokyo:20230724T170000
DTSTAMP:20260424T100407
CREATED:20230724T094041Z
LAST-MODIFIED:20230724T094041Z
UID:374-1690185600-1690218000@yumenokabu.com
SUMMARY:YUMENO KABU SOLO ACT 2023 RUBBIT'S DELUSION
DESCRIPTION:夢野カブ \nOPEN 18:30\nSTART 19:30 \n愛の投げ銭
URL:https://yumenokabu.com/event/374/
LOCATION:藤沢 S-CONNECTION\, 〒251-0023 神奈川県藤沢市鵠沼花沢町2-4 MK湘南2
CATEGORIES:関東
ATTACH;FMTTYPE=image/jpeg:https://yumenokabu.com/wp-content/uploads/2023/07/S__128409602.jpg
END:VEVENT
END:VCALENDAR