BEGIN:VCALENDAR
VERSION:2.0
PRODID:-//夢野カブ OFFICIAL SITE - ECPv6.15.20//NONSGML v1.0//EN
CALSCALE:GREGORIAN
METHOD:PUBLISH
X-WR-CALNAME:夢野カブ OFFICIAL SITE
X-ORIGINAL-URL:https://yumenokabu.com
X-WR-CALDESC:夢野カブ OFFICIAL SITE のイベント
REFRESH-INTERVAL;VALUE=DURATION:PT1H
X-Robots-Tag:noindex
X-PUBLISHED-TTL:PT1H
BEGIN:VTIMEZONE
TZID:Asia/Tokyo
BEGIN:STANDARD
TZOFFSETFROM:+0900
TZOFFSETTO:+0900
TZNAME:JST
DTSTART:20220101T000000
END:STANDARD
END:VTIMEZONE
BEGIN:VEVENT
DTSTART;TZID=Asia/Tokyo:20230817T193000
DTEND;TZID=Asia/Tokyo:20230817T193000
DTSTAMP:20260424T084021
CREATED:20230711T033144Z
LAST-MODIFIED:20230711T033144Z
UID:298-1692300600-1692300600@yumenokabu.com
SUMMARY:Turn You On
DESCRIPTION:The Crucifixions\n夢野カブ\nMAKISAMA\n福島ピート幹夫 \nOPEN 18:30\nSTART 19:30 \n¥3\,000+1drink
URL:https://yumenokabu.com/event/turn-you-on/
LOCATION:下北沢 LOWN\, 〒155-0031 東京都世田谷区北沢2-34-8 北沢KMビル3F
CATEGORIES:関東
ATTACH;FMTTYPE=image/jpeg:https://yumenokabu.com/wp-content/uploads/2023/07/S__127688708.jpg
END:VEVENT
BEGIN:VEVENT
DTSTART;TZID=Asia/Tokyo:20230819T160000
DTEND;TZID=Asia/Tokyo:20230819T160000
DTSTAMP:20260424T084021
CREATED:20230711T033650Z
LAST-MODIFIED:20230711T033650Z
UID:303-1692460800-1692460800@yumenokabu.com
SUMMARY:絶滅危惧種のロックショー南台
DESCRIPTION:Terry × 夢野カブ \nOPEN 15:30\nSTART 16:00 \n1\,000円以上の投げ銭
URL:https://yumenokabu.com/event/%e7%b5%b6%e6%bb%85%e5%8d%b1%e6%83%a7%e7%a8%ae%e3%81%ae%e3%83%ad%e3%83%83%e3%82%af%e3%82%b7%e3%83%a7%e3%83%bc%e5%8d%97%e5%8f%b0/
LOCATION:湘南台 中華三番\, 〒252-0804 神奈川県藤沢市湘南台1-21-20
CATEGORIES:関東
ATTACH;FMTTYPE=image/jpeg:https://yumenokabu.com/wp-content/uploads/2023/07/S__127688710.jpg
END:VEVENT
END:VCALENDAR