BEGIN:VCALENDAR
VERSION:2.0
PRODID:-//夢野カブ OFFICIAL SITE - ECPv6.15.20//NONSGML v1.0//EN
CALSCALE:GREGORIAN
METHOD:PUBLISH
X-WR-CALNAME:夢野カブ OFFICIAL SITE
X-ORIGINAL-URL:https://yumenokabu.com
X-WR-CALDESC:夢野カブ OFFICIAL SITE のイベント
REFRESH-INTERVAL;VALUE=DURATION:PT1H
X-Robots-Tag:noindex
X-PUBLISHED-TTL:PT1H
BEGIN:VTIMEZONE
TZID:Asia/Tokyo
BEGIN:STANDARD
TZOFFSETFROM:+0900
TZOFFSETTO:+0900
TZNAME:JST
DTSTART:20220101T000000
END:STANDARD
END:VTIMEZONE
BEGIN:VEVENT
DTSTART;TZID=Asia/Tokyo:20230902T180000
DTEND;TZID=Asia/Tokyo:20230902T180000
DTSTAMP:20260424T070647
CREATED:20230807T033615Z
LAST-MODIFIED:20230807T033615Z
UID:386-1693677600-1693677600@yumenokabu.com
SUMMARY:違和斉唱
DESCRIPTION:水星\nThe End\n夢野カブ\nとんちピクルス \nOPEN 17:00\nSTART 18:00 \nチャージ¥3\,000+1drink
URL:https://yumenokabu.com/event/386/
LOCATION:渋川 Casa Midori\, 〒377-0005 群馬県渋川市有馬1080-3
CATEGORIES:関東
ATTACH;FMTTYPE=image/jpeg:https://yumenokabu.com/wp-content/uploads/2023/08/S__132521987.jpg
END:VEVENT
BEGIN:VEVENT
DTSTART;TZID=Asia/Tokyo:20230903T210000
DTEND;TZID=Asia/Tokyo:20230903T210000
DTSTAMP:20260424T070647
CREATED:20230807T034157Z
LAST-MODIFIED:20230807T034157Z
UID:391-1693774800-1693774800@yumenokabu.com
SUMMARY:秋味 生搾りLive@喫茶虫の音Vol.7
DESCRIPTION:夢野カブ\nいまゐよういち\nみんみん \nOPEN 18:00\nSTART 19:00 \nチャージ ¥2\,000+order
URL:https://yumenokabu.com/event/391/
LOCATION:前橋 喫茶 虫の音\, 〒371-0101 群馬県前橋市富士見町赤城山1140-37
CATEGORIES:関東
ATTACH;FMTTYPE=image/jpeg:https://yumenokabu.com/wp-content/uploads/2023/08/S__132521989.jpg
END:VEVENT
BEGIN:VEVENT
DTSTART;TZID=Asia/Tokyo:20230909T193000
DTEND;TZID=Asia/Tokyo:20230909T193000
DTSTAMP:20260424T070647
CREATED:20230724T094544Z
LAST-MODIFIED:20230724T094544Z
UID:379-1694287800-1694287800@yumenokabu.com
SUMMARY:夢野カブとキンジョウマサ樹E21B
DESCRIPTION:夢野カブ\nキンジョウマサ樹とE21B\n鈴木純也G\n原田哲也Ds\nグッペB\n福島ピート幹夫Sax \nOPEN 19:00\nSTART 19:30 \n2\,500円
URL:https://yumenokabu.com/event/379/
LOCATION:高円寺 Moon Stomp\, 〒166-0002 東京都杉並区高円寺北2-22-6 キャニオンプラザ大須賀 B103
CATEGORIES:関東
ATTACH;FMTTYPE=image/jpeg:https://yumenokabu.com/wp-content/uploads/2023/07/S__131653638.jpg
END:VEVENT
BEGIN:VEVENT
DTSTART;TZID=Asia/Tokyo:20230910T190000
DTEND;TZID=Asia/Tokyo:20230910T190000
DTSTAMP:20260424T070647
CREATED:20230724T095053Z
LAST-MODIFIED:20230724T095234Z
UID:382-1694372400-1694372400@yumenokabu.com
SUMMARY:キンジョウマサ樹 55歳を祝わされる会
DESCRIPTION:キンジョウマサ樹\n夢野カブ\n鈴木純也\n華村灰太郎\nハラタカシ\n原田哲也\n福島ピート幹夫\nグッペ\nサトウシンジ\netc. \nOPEN 19:00 \n2\,500円+1order
URL:https://yumenokabu.com/event/382/
LOCATION:西荻窪 CLOP CLOP\, 〒167-0054 東京都杉並区松庵3-39-11 シティコープ西荻B1F
CATEGORIES:関東
ATTACH;FMTTYPE=image/jpeg:https://yumenokabu.com/wp-content/uploads/2023/07/S__131653640.jpg
END:VEVENT
BEGIN:VEVENT
DTSTART;TZID=Asia/Tokyo:20230915T193000
DTEND;TZID=Asia/Tokyo:20230915T193000
DTSTAMP:20260424T070647
CREATED:20230807T034523Z
LAST-MODIFIED:20230807T035025Z
UID:396-1694806200-1694806200@yumenokabu.com
SUMMARY:愛の投げ銭 LIVE!
DESCRIPTION:夢野カブ\nFOOL BROTHERS\n中川ユキヒロ\nKSM\nキヨ姉 \nOPEN 18:30\nSTART 19:30 \n投げ銭
URL:https://yumenokabu.com/event/396/
LOCATION:山谷 オトナリ\, 〒111-0021 東京都台東区日本堤2-16-6
CATEGORIES:関東
ATTACH;FMTTYPE=image/jpeg:https://yumenokabu.com/wp-content/uploads/2023/08/S__132521990.jpg
END:VEVENT
BEGIN:VEVENT
DTSTART;TZID=Asia/Tokyo:20230916T193000
DTEND;TZID=Asia/Tokyo:20230916T193000
DTSTAMP:20260424T070647
CREATED:20230807T035930Z
LAST-MODIFIED:20230807T035930Z
UID:403-1694892600-1694892600@yumenokabu.com
SUMMARY:如何屋ライブ
DESCRIPTION:夢野カブ\nヤマザキヤマト \nOPEN 19:00\nSTART 19:30 \nチャージ¥2\,000+order
URL:https://yumenokabu.com/event/403/
LOCATION:西川口 如何屋\, 〒332-0034 埼玉県川口市並木3-5-17
CATEGORIES:関東
ATTACH;FMTTYPE=image/jpeg:https://yumenokabu.com/wp-content/uploads/2023/08/S__132530178.jpg
END:VEVENT
BEGIN:VEVENT
DTSTART;TZID=Asia/Tokyo:20230917T193000
DTEND;TZID=Asia/Tokyo:20230917T193000
DTSTAMP:20260424T070647
CREATED:20230920T103220Z
LAST-MODIFIED:20230920T103220Z
UID:414-1694979000-1694979000@yumenokabu.com
SUMMARY:ヤマザキヤマト×夢野カブ 歌うRhythm 叩くSoul
DESCRIPTION:夢野カブ\nヤマザキヤマト \nOPENING GUEST ヨシムラタカシ \nOPEN 18:30\nSTART 19:30 \nチャージ¥3\,000+order
URL:https://yumenokabu.com/event/414/
LOCATION:西荻窪 CLOP CLOP\, 〒167-0054 東京都杉並区松庵3-39-11 シティコープ西荻B1F
CATEGORIES:関東
ATTACH;FMTTYPE=image/jpeg:https://yumenokabu.com/wp-content/uploads/2023/09/S__140779525.jpg
END:VEVENT
BEGIN:VEVENT
DTSTART;TZID=Asia/Tokyo:20230922T193000
DTEND;TZID=Asia/Tokyo:20230922T193000
DTSTAMP:20260424T070647
CREATED:20230724T044436Z
LAST-MODIFIED:20230724T044436Z
UID:358-1695411000-1695411000@yumenokabu.com
SUMMARY:夢野カブ&"D runkard Ball" Roll Over 60 Tour
DESCRIPTION:夢野カブ&”D runkard Ball”\n夢野カブ\n澄田健\nCRAZY COOL-JOE\n湊雅史 \nOPEN 18:30\nSTART 19:30 \n前売3\,500円+1drink\n当日4\,000円+1drink \nTHE SHOJIMARU\nhttps://shojimaru.main.jp/livereserve/
URL:https://yumenokabu.com/event/358/
LOCATION:神田 THE SHOJIMARU\, 〒101-0041 東京都千代田区神田須田町1-4-6 吉川ビルB1F
CATEGORIES:関東
ATTACH;FMTTYPE=image/jpeg:https://yumenokabu.com/wp-content/uploads/2023/07/S__128311306.jpg
END:VEVENT
END:VCALENDAR