BEGIN:VCALENDAR
VERSION:2.0
PRODID:-//夢野カブ OFFICIAL SITE - ECPv6.15.20//NONSGML v1.0//EN
CALSCALE:GREGORIAN
METHOD:PUBLISH
X-ORIGINAL-URL:https://yumenokabu.com
X-WR-CALDESC:夢野カブ OFFICIAL SITE のイベント
REFRESH-INTERVAL;VALUE=DURATION:PT1H
X-Robots-Tag:noindex
X-PUBLISHED-TTL:PT1H
BEGIN:VTIMEZONE
TZID:Asia/Tokyo
BEGIN:STANDARD
TZOFFSETFROM:+0900
TZOFFSETTO:+0900
TZNAME:JST
DTSTART:20220101T000000
END:STANDARD
END:VTIMEZONE
BEGIN:VEVENT
DTSTART;TZID=Asia/Tokyo:20231127T193000
DTEND;TZID=Asia/Tokyo:20231127T193000
DTSTAMP:20260424T011315
CREATED:20231111T235903Z
LAST-MODIFIED:20231111T235903Z
UID:537-1701113400-1701113400@yumenokabu.com
SUMMARY:命運な数奇 Vol.107 ROCKN'ROLL & NICE FOLK & Year! Man! PARTY!!
DESCRIPTION:夢野カブ \nFOOLS BROTHERS\n中川ユキヒロ\nKSM \n京成BOYS\n92Banton\nKatto a.k.a. Mr.J.SLANG \nOPEN 18:00\nSTART 19:30 \nチャージ：3\,000円 +1Drink
URL:https://yumenokabu.com/event/537/
LOCATION:西荻窪 CLOP CLOP\, 〒167-0054 東京都杉並区松庵3-39-11 シティコープ西荻B1F
CATEGORIES:関東
ATTACH;FMTTYPE=image/jpeg:https://yumenokabu.com/wp-content/uploads/2023/11/14CBB336-C753-4E9E-B3DE-51144732DBEA-scaled.jpg
END:VEVENT
BEGIN:VEVENT
DTSTART;TZID=Asia/Tokyo:20231129T190000
DTEND;TZID=Asia/Tokyo:20231129T190000
DTSTAMP:20260424T011315
CREATED:20231112T001911Z
LAST-MODIFIED:20231112T001958Z
UID:541-1701284400-1701284400@yumenokabu.com
SUMMARY:Dance with Fleming vol.5
DESCRIPTION:MOTEL \n新☆亮 \nAmigo & Bookie \n夢野カブ \nOPEN 18:30\nSTART 19:00 \n前売：3\,000円 +1Drink\n当日：3\,500円 +1Drink
URL:https://yumenokabu.com/event/541/
LOCATION:下北沢 LOWN\, 〒155-0031 東京都世田谷区北沢2-34-8 北沢KMビル3F
CATEGORIES:関東
ATTACH;FMTTYPE=image/jpeg:https://yumenokabu.com/wp-content/uploads/2023/11/S__144924683.jpg
END:VEVENT
END:VCALENDAR