BEGIN:VCALENDAR
VERSION:2.0
PRODID:-//夢野カブ OFFICIAL SITE - ECPv6.15.20//NONSGML v1.0//EN
CALSCALE:GREGORIAN
METHOD:PUBLISH
X-ORIGINAL-URL:https://yumenokabu.com
X-WR-CALDESC:夢野カブ OFFICIAL SITE のイベント
REFRESH-INTERVAL;VALUE=DURATION:PT1H
X-Robots-Tag:noindex
X-PUBLISHED-TTL:PT1H
BEGIN:VTIMEZONE
TZID:Asia/Tokyo
BEGIN:STANDARD
TZOFFSETFROM:+0900
TZOFFSETTO:+0900
TZNAME:JST
DTSTART:20220101T000000
END:STANDARD
END:VTIMEZONE
BEGIN:VEVENT
DTSTART;TZID=Asia/Tokyo:20231217T173000
DTEND;TZID=Asia/Tokyo:20231217T173000
DTSTAMP:20260423T234449
CREATED:20231202T191534Z
LAST-MODIFIED:20231202T191728Z
UID:657-1702834200-1702834200@yumenokabu.com
SUMMARY:clop clop presents 60 anniversary Survival confirmation live
DESCRIPTION:夢野カブ\n澄田健\n蜂谷真紀\n山下太郎\nおちょこ\n中野隼人\n鈴木徹大\nhio.sumurai.funk\ntaka\nCazy.Cool.Joe\n椎名達人\n西村雄介\n仲瀬久幸\n小林中\n小関純匡\n角田健\n松尾敦史 \nOPEN 17:00\nSTART 17:30 \n前売：4\,000円 +1drink\n当日：4\,500円 +1drink
URL:https://yumenokabu.com/event/657/
LOCATION:吉祥寺 Star Pine’s Cafe\, 〒180-0004 東京都武蔵野市吉祥寺本町１丁目２０−１６ トクタケパーキングビル
CATEGORIES:関東
ATTACH;FMTTYPE=image/jpeg:https://yumenokabu.com/wp-content/uploads/2023/12/S__145973267.jpg
END:VEVENT
BEGIN:VEVENT
DTSTART;TZID=Asia/Tokyo:20231219T193000
DTEND;TZID=Asia/Tokyo:20231219T193000
DTSTAMP:20260423T234449
CREATED:20231202T192833Z
LAST-MODIFIED:20231202T192941Z
UID:667-1703014200-1703014200@yumenokabu.com
SUMMARY:音槍残胸 夢野カブ×上村秀右 2ManLive
DESCRIPTION:夢野カブ \n上村秀右 \nOPEN 19:00\nSTART 19:30 \nチャージ：2\,500円 +1drink
URL:https://yumenokabu.com/event/667/
LOCATION:高円寺 Moon Stomp\, 〒166-0002 東京都杉並区高円寺北2-22-6 キャニオンプラザ大須賀 B103
CATEGORIES:関東
ATTACH;FMTTYPE=image/jpeg:https://yumenokabu.com/wp-content/uploads/2023/12/S__146292746_0.jpg
END:VEVENT
BEGIN:VEVENT
DTSTART;TZID=Asia/Tokyo:20231220T193000
DTEND;TZID=Asia/Tokyo:20231220T193000
DTSTAMP:20260423T234449
CREATED:20231202T193344Z
LAST-MODIFIED:20231202T193500Z
UID:671-1703100600-1703100600@yumenokabu.com
SUMMARY:カラーフィルムを忘れたかい？ vol.2
DESCRIPTION:SUEMARR \n夢野カブ \nOPEN 19:00\nSTART 19:30 \nチャージ：3\,000円 +order
URL:https://yumenokabu.com/event/671/
LOCATION:Sammy’s Hawaiian Cafe\, 〒221-0802 神奈川県横浜市神奈川区六角橋１丁目１０−２
CATEGORIES:関東
ATTACH;FMTTYPE=image/jpeg:https://yumenokabu.com/wp-content/uploads/2023/12/S__146456586.jpg
END:VEVENT
BEGIN:VEVENT
DTSTART;TZID=Asia/Tokyo:20231222T193000
DTEND;TZID=Asia/Tokyo:20231222T193000
DTSTAMP:20260423T234449
CREATED:20231202T192425Z
LAST-MODIFIED:20231214T070222Z
UID:665-1703273400-1703273400@yumenokabu.com
SUMMARY:Kabu & Terry 絶滅危惧SHOESのROCK SHOW!
DESCRIPTION:夢野カブ \nTerry \nOPEN 19:00\nSTART 19:30 \nチャージ：1\,000円以上の愛の投げ銭
URL:https://yumenokabu.com/event/665/
LOCATION:湘南台 中華三番\, 〒252-0804 神奈川県藤沢市湘南台1-21-20
CATEGORIES:関東
ATTACH;FMTTYPE=image/jpeg:https://yumenokabu.com/wp-content/uploads/2023/12/S__146292748_0.jpg
END:VEVENT
BEGIN:VEVENT
DTSTART;TZID=Asia/Tokyo:20231223T190000
DTEND;TZID=Asia/Tokyo:20231223T190000
DTSTAMP:20260423T234449
CREATED:20231214T070532Z
LAST-MODIFIED:20231214T070602Z
UID:698-1703358000-1703358000@yumenokabu.com
SUMMARY:無宗教な奴ら
DESCRIPTION:夢野カブ \nナカムラ♠︎ \nOPEN 18:00\nSTART 19:00 \nチャージ：投げ銭
URL:https://yumenokabu.com/event/698/
LOCATION:高円寺 Muddy\, 〒166-0002 東京都高円寺北３丁目２２−７ プラザ高円寺 2F
CATEGORIES:関東
ATTACH;FMTTYPE=image/jpeg:https://yumenokabu.com/wp-content/uploads/2023/12/S__146505738.jpg
END:VEVENT
END:VCALENDAR