BEGIN:VCALENDAR
VERSION:2.0
PRODID:-//夢野カブ OFFICIAL SITE - ECPv6.15.20//NONSGML v1.0//EN
CALSCALE:GREGORIAN
METHOD:PUBLISH
X-ORIGINAL-URL:https://yumenokabu.com
X-WR-CALDESC:夢野カブ OFFICIAL SITE のイベント
REFRESH-INTERVAL;VALUE=DURATION:PT1H
X-Robots-Tag:noindex
X-PUBLISHED-TTL:PT1H
BEGIN:VTIMEZONE
TZID:Asia/Tokyo
BEGIN:STANDARD
TZOFFSETFROM:+0900
TZOFFSETTO:+0900
TZNAME:JST
DTSTART:20230101T000000
END:STANDARD
END:VTIMEZONE
BEGIN:VEVENT
DTSTART;TZID=Asia/Tokyo:20240525T120000
DTEND;TZID=Asia/Tokyo:20240525T120000
DTSTAMP:20260423T125248
CREATED:20240427T033335Z
LAST-MODIFIED:20240427T033432Z
UID:1179-1716638400-1716638400@yumenokabu.com
SUMMARY:SHOWなんだいDEショー
DESCRIPTION:夢野カブ他 \nOPEN 12:00\nSTART 12:00 \nチャージ：3\,000円
URL:https://yumenokabu.com/event/1179/
LOCATION:湘南台駅周辺\, 〒252-0804 神奈川県藤沢市湘南台２丁目
CATEGORIES:関東
ATTACH;FMTTYPE=image/jpeg:https://yumenokabu.com/wp-content/uploads/2024/04/S__1556488_0.jpg
END:VEVENT
END:VCALENDAR