BEGIN:VCALENDAR
VERSION:2.0
PRODID:-//夢野カブ OFFICIAL SITE - ECPv6.15.20//NONSGML v1.0//EN
CALSCALE:GREGORIAN
METHOD:PUBLISH
X-WR-CALNAME:夢野カブ OFFICIAL SITE
X-ORIGINAL-URL:https://yumenokabu.com
X-WR-CALDESC:夢野カブ OFFICIAL SITE のイベント
REFRESH-INTERVAL;VALUE=DURATION:PT1H
X-Robots-Tag:noindex
X-PUBLISHED-TTL:PT1H
BEGIN:VTIMEZONE
TZID:Asia/Tokyo
BEGIN:STANDARD
TZOFFSETFROM:+0900
TZOFFSETTO:+0900
TZNAME:JST
DTSTART:20230101T000000
END:STANDARD
END:VTIMEZONE
BEGIN:VEVENT
DTSTART;TZID=Asia/Tokyo:20240903T193000
DTEND;TZID=Asia/Tokyo:20240903T193000
DTSTAMP:20260423T060938
CREATED:20240822T004351Z
LAST-MODIFIED:20240822T004412Z
UID:1534-1725391800-1725391800@yumenokabu.com
SUMMARY:命運な奇数 Vol.110
DESCRIPTION:夢野カブ \n林レイナ＆藤原マヒト \nOPEN 18:30\nSTART 19:30 \nチャージ：3\,000円 +order
URL:https://yumenokabu.com/event/1534/
LOCATION:西荻窪 CLOP CLOP\, 〒167-0054 東京都杉並区松庵3-39-11 シティコープ西荻B1F
CATEGORIES:関東
ATTACH;FMTTYPE=image/jpeg:https://yumenokabu.com/wp-content/uploads/2024/08/S__8560645.jpg
END:VEVENT
BEGIN:VEVENT
DTSTART;TZID=Asia/Tokyo:20240906T193000
DTEND;TZID=Asia/Tokyo:20240906T193000
DTSTAMP:20260423T060938
CREATED:20240808T015307Z
LAST-MODIFIED:20240808T015351Z
UID:1481-1725651000-1725651000@yumenokabu.com
SUMMARY:Brother & Roll 2Man Live
DESCRIPTION:夢野カブ \n平四郎 \nO.A. \nOPEN 19:00\nSTART 19:30 \nチャージ：2\,500円 +1drink
URL:https://yumenokabu.com/event/1481/
LOCATION:前橋 水星second.\, 〒371-0022 群馬県前橋市千代田町５丁目８−７
CATEGORIES:関東
ATTACH;FMTTYPE=image/jpeg:https://yumenokabu.com/wp-content/uploads/2024/08/S__8445959.jpg
END:VEVENT
BEGIN:VEVENT
DTSTART;TZID=Asia/Tokyo:20240907T080000
DTEND;TZID=Asia/Tokyo:20240907T170000
DTSTAMP:20260423T060938
CREATED:20240808T003812Z
LAST-MODIFIED:20240808T004010Z
UID:1476-1725696000-1725728400@yumenokabu.com
SUMMARY:違和斉唱 Vol.4
DESCRIPTION:夢野カブ \nThe End \nOPEN 18:00\nSTART 19:00 \nチャージ：3\,000円 +D別 \nhttps://yumenokabu.com/wp-content/uploads/2024/08/744648189.700858.mp4
URL:https://yumenokabu.com/event/1476/
LOCATION:渋川 Casa Midori\, 〒377-0005 群馬県渋川市有馬1080-3
CATEGORIES:関東
ATTACH;FMTTYPE=image/jpeg:https://yumenokabu.com/wp-content/uploads/2024/08/S__101023750.jpg
END:VEVENT
BEGIN:VEVENT
DTSTART;TZID=Asia/Tokyo:20240908T150000
DTEND;TZID=Asia/Tokyo:20240908T170000
DTSTAMP:20260423T060938
CREATED:20240822T004019Z
LAST-MODIFIED:20240822T004104Z
UID:1531-1725807600-1725814800@yumenokabu.com
SUMMARY:【秋味 生搾りフェス】 Vol.9
DESCRIPTION:夢野カブ \nいまゐよういち \nみんみん \n平四郎 \n高平悠 \n池沢宗極楽寺 \nOPEN 14:00\nSTART 15:00 \nチャージ：3\,000円 +drink別
URL:https://yumenokabu.com/event/1531/
LOCATION:前橋 喫茶 虫の音\, 〒371-0101 群馬県前橋市富士見町赤城山1140-37
CATEGORIES:関東
ATTACH;FMTTYPE=image/jpeg:https://yumenokabu.com/wp-content/uploads/2024/08/S__8806414.jpg
END:VEVENT
END:VCALENDAR