BEGIN:VCALENDAR
VERSION:2.0
PRODID:-//夢野カブ OFFICIAL SITE - ECPv6.15.20//NONSGML v1.0//EN
CALSCALE:GREGORIAN
METHOD:PUBLISH
X-ORIGINAL-URL:https://yumenokabu.com
X-WR-CALDESC:夢野カブ OFFICIAL SITE のイベント
REFRESH-INTERVAL;VALUE=DURATION:PT1H
X-Robots-Tag:noindex
X-PUBLISHED-TTL:PT1H
BEGIN:VTIMEZONE
TZID:Asia/Tokyo
BEGIN:STANDARD
TZOFFSETFROM:+0900
TZOFFSETTO:+0900
TZNAME:JST
DTSTART:20240101T000000
END:STANDARD
END:VTIMEZONE
BEGIN:VEVENT
DTSTART;TZID=Asia/Tokyo:20250510T190000
DTEND;TZID=Asia/Tokyo:20250510T190000
DTSTAMP:20260422T190410
CREATED:20250429T084122Z
LAST-MODIFIED:20250429T084240Z
UID:2486-1746903600-1746903600@yumenokabu.com
SUMMARY:BLAVO CHIP LIVE !@分倍河原 居酒屋 風
DESCRIPTION:夢野カブ \nこうふく \nOPEN 18:00\nSTART 19:00 \nチャージ：\n投げ銭（¥1\,000以上）
URL:https://yumenokabu.com/event/2486/
LOCATION:分倍河原 居酒屋 風\, 〒183-0021 東京都府中市片町１丁目６−１ 青祥ヒルズ １０２号
CATEGORIES:関東
ATTACH;FMTTYPE=image/jpeg:https://yumenokabu.com/wp-content/uploads/2025/04/S__14917657.jpg
END:VEVENT
BEGIN:VEVENT
DTSTART;TZID=Asia/Tokyo:20250511T180000
DTEND;TZID=Asia/Tokyo:20250511T180000
DTSTAMP:20260422T190410
CREATED:20250302T063137Z
LAST-MODIFIED:20250302T070426Z
UID:2250-1746986400-1746986400@yumenokabu.com
SUMMARY:THE SOUL NUTS @ 所沢MOJO
DESCRIPTION:THE SOUL NUTS\n湊雅史\n澄田健\n早川岳晴\n夢野カブ \nザ・ナスポンズ\n春日’hachi’博文\n新井健太\n小滝みつる\n上原ユカリ裕\n松浦湊 \nOPEN 17:00\nSTART 18:00 \nチャージ：\n前売 4\,500円 +1D別500円\n当日 5\,000円 +1D別500円
URL:https://yumenokabu.com/event/2250/
LOCATION:所沢 MOJO\, 〒359-1124 埼玉県所沢市南住吉１−１３ サザンビレッジ 2F
CATEGORIES:関東
ATTACH;FMTTYPE=image/jpeg:https://yumenokabu.com/wp-content/uploads/2025/03/S__11960332.jpg
END:VEVENT
BEGIN:VEVENT
DTSTART;TZID=Asia/Tokyo:20250529T193000
DTEND;TZID=Asia/Tokyo:20250529T193000
DTSTAMP:20260422T190410
CREATED:20250429T074627Z
LAST-MODIFIED:20250429T074721Z
UID:2458-1748547000-1748547000@yumenokabu.com
SUMMARY:夢野カブ×バラッドショット@高円寺Moon Stomp
DESCRIPTION:夢野カブ \nバラッドショット \nOPEN 19:00\nSTART 19:30 \nチャージ：\n前売 3\,000円 +D\n当日 3\,500円 +D
URL:https://yumenokabu.com/event/2458/
LOCATION:高円寺 Moon Stomp\, 〒166-0002 東京都杉並区高円寺北2-22-6 キャニオンプラザ大須賀 B103
CATEGORIES:関東
ATTACH;FMTTYPE=image/jpeg:https://yumenokabu.com/wp-content/uploads/2025/04/S__14934044.jpg
END:VEVENT
BEGIN:VEVENT
DTSTART;TZID=Asia/Tokyo:20250530T193000
DTEND;TZID=Asia/Tokyo:20250530T193000
DTSTAMP:20260422T190410
CREATED:20250520T232826Z
LAST-MODIFIED:20250520T232955Z
UID:2551-1748633400-1748633400@yumenokabu.com
SUMMARY:夢野カブ×TERRY 絶滅危惧種のロックショー@三鷹Bayou Gate
DESCRIPTION:夢野カブ \nTERRY \nOPEN 19:00\nSTART 19:30 \nチャージ：\n前売 3\,000円\n当日 3\,500円
URL:https://yumenokabu.com/event/2551/
LOCATION:三鷹 BAYOU GATE\, 〒180-0006 東京都武蔵野市中町１丁目１７−２
CATEGORIES:関東
ATTACH;FMTTYPE=image/jpeg:https://yumenokabu.com/wp-content/uploads/2025/05/S__16171012.jpg
END:VEVENT
BEGIN:VEVENT
DTSTART;TZID=Asia/Tokyo:20250531T120000
DTEND;TZID=Asia/Tokyo:20250531T200000
DTSTAMP:20260422T190410
CREATED:20250428T102217Z
LAST-MODIFIED:20250429T000337Z
UID:2455-1748692800-1748721600@yumenokabu.com
SUMMARY:SHOWなんだいDEショー vol.11
DESCRIPTION:参加アーティスト\nあおちゃんのびちゃん/AMIXTAME /飯島光太郎/・水木・後関／稲葉浩／井上大地／入船亭扇里/江口優／江崎掌／衣美スクナシ／遠コージズ／大石みつのん／大久保理/おっくんバンド/ガイ聡土／金尾よしろう/CANDY&CIGARETTES/キャンパーズ／キンキンバンド（てっちゃん、北川涼、BOB藤）／口石和人／くぼん、アントン/けんちまん／コージー大内／古見健二/The Cocksucker Blues Band/ディコ・キックス／ジョニーモイキー＆モイキースイング/Juice／鈴木純也／スカンクちかの/杉原徹-TE’ TSU100%-/The Sweet Soul Brothers /ダイスケ・アザガート／高田エージ、条絢哉／高橋マコト／立川小春志／W.C.カラスとKOTEZ/タマキング/Chihana/ちちんぷいぷい／ツカサ＆櫻田/DIXIE TRIBE（青井タケオ、八島順一、中野新哉）/てくてくのもり／東京珍太／とんちビクルス/ナオユキ／ナギラアッシ/ネイバーズ／ハッチハッチェル／端山龍／ハルシゲ楽団/ビト/縄てつや/町田謙介、T-Sim、Kwani/マユミール／宮地貴之（THE TACHOMETERS）/Mooney、アンディ、ミドケン／夜久一、福島ピート幹夫／山口敦子／夢野カブ、Terry /良元優作／リトルキヨシ/ROIKI／Rock’ N Roll Gumbo /和田直樹 \nSTART 12:00 \nチケット 3\,000円 （各会場共通一日周遊券） \n【ライブ会場】 YASSAI MOSSAI/創作居酒屋 風／北都館/BAR OUTGLOWTH / 1Cafe&Bar／湘南台パプテスト教会／居酒屋かずどん／家庭料理じゅんちゃん/駄菓子屋ジッカジッカ／中華料理三番
URL:https://yumenokabu.com/event/2455/
CATEGORIES:関東
ATTACH;FMTTYPE=image/jpeg:https://yumenokabu.com/wp-content/uploads/2025/04/S__14934023.jpg
END:VEVENT
END:VCALENDAR