BEGIN:VCALENDAR
VERSION:2.0
PRODID:-//夢野カブ OFFICIAL SITE - ECPv6.15.20//NONSGML v1.0//EN
CALSCALE:GREGORIAN
METHOD:PUBLISH
X-ORIGINAL-URL:https://yumenokabu.com
X-WR-CALDESC:夢野カブ OFFICIAL SITE のイベント
REFRESH-INTERVAL;VALUE=DURATION:PT1H
X-Robots-Tag:noindex
X-PUBLISHED-TTL:PT1H
BEGIN:VTIMEZONE
TZID:Asia/Tokyo
BEGIN:STANDARD
TZOFFSETFROM:+0900
TZOFFSETTO:+0900
TZNAME:JST
DTSTART:20240101T000000
END:STANDARD
END:VTIMEZONE
BEGIN:VEVENT
DTSTART;TZID=Asia/Tokyo:20250907T193000
DTEND;TZID=Asia/Tokyo:20250907T193000
DTSTAMP:20260422T190408
CREATED:20250801T072920Z
LAST-MODIFIED:20250801T085134Z
UID:2897-1757273400-1757273400@yumenokabu.com
SUMMARY:命運な奇数 vol.114 All Flowers Connection !
DESCRIPTION:Yumeno Kabu\nHayashi Reina\nFukushima ‘Pete’ Mikio\nFujiwara Mahito \nOPEN 19:00\nSTART 19:30 \nチャージ：3\,000円 +1drink
URL:https://yumenokabu.com/event/2897/
LOCATION:西荻窪 CLOP CLOP\, 〒167-0054 東京都杉並区松庵3-39-11 シティコープ西荻B1F
CATEGORIES:関東
ATTACH;FMTTYPE=image/jpeg:https://yumenokabu.com/wp-content/uploads/2025/08/S__20914184.jpg
END:VEVENT
BEGIN:VEVENT
DTSTART;TZID=Asia/Tokyo:20250909T190000
DTEND;TZID=Asia/Tokyo:20250909T190000
DTSTAMP:20260422T190408
CREATED:20250902T013718Z
LAST-MODIFIED:20250902T014555Z
UID:3147-1757444400-1757444400@yumenokabu.com
SUMMARY:Bravo! Chip ONE MAN LIVE@湘南台 中華三番
DESCRIPTION:夢野カブ \nOPEN 18:00\nSTART 19:00 \nチャージ：1\,000円以上の投げ銭+order
URL:https://yumenokabu.com/event/3147/
LOCATION:湘南台 中華三番\, 〒252-0804 神奈川県藤沢市湘南台1-21-20
CATEGORIES:関東
ATTACH;FMTTYPE=image/jpeg:https://yumenokabu.com/wp-content/uploads/2025/09/S__22978568.jpg
END:VEVENT
BEGIN:VEVENT
DTSTART;TZID=Asia/Tokyo:20250924T193000
DTEND;TZID=Asia/Tokyo:20250924T193000
DTSTAMP:20260422T190408
CREATED:20250921T135617Z
LAST-MODIFIED:20250921T165809Z
UID:3211-1758742200-1758742200@yumenokabu.com
SUMMARY:命運な奇数 vol.115 音槍残胸@西荻窪 CLOP CLOP
DESCRIPTION:夢野カブ \n華村灰太郎 \n上村秀右 \nOPEN 19:00\nSTART 19:30 \nチャージ：\n前売 2\,500円\n当日 3\,000円
URL:https://yumenokabu.com/event/3211/
LOCATION:西荻窪 CLOP CLOP\, 〒167-0054 東京都杉並区松庵3-39-11 シティコープ西荻B1F
CATEGORIES:関東
ATTACH;FMTTYPE=image/jpeg:https://yumenokabu.com/wp-content/uploads/2025/09/S__23945239.jpg
END:VEVENT
BEGIN:VEVENT
DTSTART;TZID=Asia/Tokyo:20250926T193000
DTEND;TZID=Asia/Tokyo:20250926T193000
DTSTAMP:20260422T190408
CREATED:20250901T072845Z
LAST-MODIFIED:20250921T165746Z
UID:3141-1758915000-1758915000@yumenokabu.com
SUMMARY:最終的にはRock'n Rollでしょ@前橋 水星second.
DESCRIPTION:夢野カブ \n平四郎 \nOPEN 19:00\nSTART 19:30 \nチャージ：2\,500円 +1drink
URL:https://yumenokabu.com/event/3141/
LOCATION:前橋 水星second.\, 〒371-0022 群馬県前橋市千代田町５丁目８−７
CATEGORIES:関東
ATTACH;FMTTYPE=image/jpeg:https://yumenokabu.com/wp-content/uploads/2025/08/S__22790160.jpg
END:VEVENT
BEGIN:VEVENT
DTSTART;TZID=Asia/Tokyo:20250927T190000
DTEND;TZID=Asia/Tokyo:20250927T190000
DTSTAMP:20260422T190408
CREATED:20250823T074612Z
LAST-MODIFIED:20250823T081508Z
UID:3059-1758999600-1758999600@yumenokabu.com
SUMMARY:無宗教な奴ら〜渋川編〜@渋川 Casa Midori
DESCRIPTION:夢野カブ \nナカムラ♠︎ \nOPEN 18:00\nSTART 19:00 \nチャージ：3\,000円 +Drink
URL:https://yumenokabu.com/event/3059/
LOCATION:渋川 Casa Midori\, 〒377-0005 群馬県渋川市有馬1080-3
CATEGORIES:関東
ATTACH;FMTTYPE=image/jpeg:https://yumenokabu.com/wp-content/uploads/2025/08/S__22216715.jpg
END:VEVENT
BEGIN:VEVENT
DTSTART;TZID=Asia/Tokyo:20250928T190000
DTEND;TZID=Asia/Tokyo:20250928T190000
DTSTAMP:20260422T190408
CREATED:20250823T075034Z
LAST-MODIFIED:20250823T075116Z
UID:3063-1759086000-1759086000@yumenokabu.com
SUMMARY:秋味★生搾りLIVE Vol.10@前橋 虫の音
DESCRIPTION:夢野カブ \nいまゐよういち \nナカムラ♠︎（モアリズム） \nみんみん \nOPEN 17:00\nSTART 18:00 \nチャージ：2\,500円 +D別
URL:https://yumenokabu.com/event/3063/
LOCATION:前橋 喫茶 虫の音\, 〒371-0101 群馬県前橋市富士見町赤城山1140-37
CATEGORIES:関東
ATTACH;FMTTYPE=image/jpeg:https://yumenokabu.com/wp-content/uploads/2025/08/S__22274053.jpg
END:VEVENT
END:VCALENDAR