BEGIN:VCALENDAR
VERSION:2.0
PRODID:-//夢野カブ OFFICIAL SITE - ECPv6.15.20//NONSGML v1.0//EN
CALSCALE:GREGORIAN
METHOD:PUBLISH
X-ORIGINAL-URL:https://yumenokabu.com
X-WR-CALDESC:夢野カブ OFFICIAL SITE のイベント
REFRESH-INTERVAL;VALUE=DURATION:PT1H
X-Robots-Tag:noindex
X-PUBLISHED-TTL:PT1H
BEGIN:VTIMEZONE
TZID:Asia/Tokyo
BEGIN:STANDARD
TZOFFSETFROM:+0900
TZOFFSETTO:+0900
TZNAME:JST
DTSTART:20240101T000000
END:STANDARD
END:VTIMEZONE
BEGIN:VEVENT
DTSTART;TZID=Asia/Tokyo:20251004T190000
DTEND;TZID=Asia/Tokyo:20251004T190000
DTSTAMP:20260422T203943
CREATED:20250823T081901Z
LAST-MODIFIED:20250921T165658Z
UID:3078-1759604400-1759604400@yumenokabu.com
SUMMARY:無宗教な奴らVOL.5@西新宿 ギビツミ
DESCRIPTION:夢野カブ \nナカムラ♠︎ \nOPEN 17:30\nSTART 19:00 \nチャージ：2\,500円&ORDER
URL:https://yumenokabu.com/event/3078/
LOCATION:西新宿 うどん屋 ギビツミ\, 〒160-0023 東京都新宿区西新宿７丁目１９−２１ いつくしまビル1F
CATEGORIES:関東
ATTACH;FMTTYPE=image/jpeg:https://yumenokabu.com/wp-content/uploads/2025/08/S__22437900.jpg
END:VEVENT
BEGIN:VEVENT
DTSTART;TZID=Asia/Tokyo:20251007T193000
DTEND;TZID=Asia/Tokyo:20251007T193000
DTSTAMP:20260422T203943
CREATED:20250928T134843Z
LAST-MODIFIED:20250930T103158Z
UID:3269-1759865400-1759865400@yumenokabu.com
SUMMARY:命運な奇数 vol.116@西荻窪 CLOP CLOP
DESCRIPTION:夢野カブ \n高木まひこ \nO.A. 中塚詩音 \nOPEN 19:00\nSTART 19:30 \nチャージ：\n前売 2\,500円\n当日 3\,000円
URL:https://yumenokabu.com/event/3269/
LOCATION:西荻窪 CLOP CLOP\, 〒167-0054 東京都杉並区松庵3-39-11 シティコープ西荻B1F
CATEGORIES:関東
ATTACH;FMTTYPE=image/jpeg:https://yumenokabu.com/wp-content/uploads/2025/09/S__24895516.jpg
END:VEVENT
END:VCALENDAR