BEGIN:VCALENDAR
VERSION:2.0
PRODID:-//夢野カブ OFFICIAL SITE - ECPv6.15.20//NONSGML v1.0//EN
CALSCALE:GREGORIAN
METHOD:PUBLISH
X-ORIGINAL-URL:https://yumenokabu.com
X-WR-CALDESC:夢野カブ OFFICIAL SITE のイベント
REFRESH-INTERVAL;VALUE=DURATION:PT1H
X-Robots-Tag:noindex
X-PUBLISHED-TTL:PT1H
BEGIN:VTIMEZONE
TZID:Asia/Tokyo
BEGIN:STANDARD
TZOFFSETFROM:+0900
TZOFFSETTO:+0900
TZNAME:JST
DTSTART:20250101T000000
END:STANDARD
END:VTIMEZONE
BEGIN:VEVENT
DTSTART;TZID=Asia/Tokyo:20260301T193000
DTEND;TZID=Asia/Tokyo:20260301T193000
DTSTAMP:20260423T124950
CREATED:20260223T064637Z
LAST-MODIFIED:20260223T064637Z
UID:3782-1772393400-1772393400@yumenokabu.com
SUMMARY:75th 片山広明 生誕祭＠西荻窪 CLOP CLOP
DESCRIPTION:夢野カブ \n早川岳晴 \n石渡明廣 \n湊雅史 \n川口義之 \nOPEN 19:00\nSTART 19:30 \nチャージ：\n前売 3\,000円\n当日 3\,500円
URL:https://yumenokabu.com/event/3782/
LOCATION:西荻窪 CLOP CLOP\, 〒167-0054 東京都杉並区松庵3-39-11 シティコープ西荻B1F
CATEGORIES:関東
ATTACH;FMTTYPE=image/jpeg:https://yumenokabu.com/wp-content/uploads/2026/02/S__34471942.jpg
END:VEVENT
BEGIN:VEVENT
DTSTART;VALUE=DATE:20260302
DTEND;VALUE=DATE:20260303
DTSTAMP:20260423T124950
CREATED:20260227T084937Z
LAST-MODIFIED:20260227T084955Z
UID:3810-1772409600-1772495999@yumenokabu.com
SUMMARY:夢野カブpresents『命運な奇数vol.116』
DESCRIPTION:夢野カブ ONE MAN LIVE\nOPEN 19:00\nSTART 19:30\nチャージ：2\,500円 +1drink（1drink付）
URL:https://yumenokabu.com/event/3810/
LOCATION:西荻窪 CLOP CLOP\, 〒167-0054 東京都杉並区松庵3-39-11 シティコープ西荻B1F
CATEGORIES:関東
ATTACH;FMTTYPE=image/jpeg:https://yumenokabu.com/wp-content/uploads/2026/02/phonto.jpeg
END:VEVENT
BEGIN:VEVENT
DTSTART;TZID=Asia/Tokyo:20260313T193000
DTEND;TZID=Asia/Tokyo:20260313T193000
DTSTAMP:20260423T124950
CREATED:20260223T052411Z
LAST-MODIFIED:20260223T052411Z
UID:3764-1773430200-1773430200@yumenokabu.com
SUMMARY:無宗教な奴ら〜Cool Fool 前橋編@前橋 COOL FOOL
DESCRIPTION:夢野カブ \nナカムラ♠（From モアリズム） \nいまゐよういち（From yO’ceans） \nみんみん（From Casa Midori） \nOPEN 19:00\nSTART 19:30\nチャージ：3\,000円 +1drink
URL:https://yumenokabu.com/event/3764/
LOCATION:前橋 LIVE BAR COOLFOOL\, 〒371-0022 群馬県前橋市千代田町５丁目１５−３ クロスロードマエバシ 3F
CATEGORIES:関東
ATTACH;FMTTYPE=image/jpeg:https://yumenokabu.com/wp-content/uploads/2026/02/S__34144263.jpg
END:VEVENT
BEGIN:VEVENT
DTSTART;TZID=Asia/Tokyo:20260314T190000
DTEND;TZID=Asia/Tokyo:20260314T190000
DTSTAMP:20260423T124950
CREATED:20260202T063422Z
LAST-MODIFIED:20260202T063422Z
UID:3698-1773514800-1773514800@yumenokabu.com
SUMMARY:無宗教な奴ら 〜渋川決戦〜 Casa Midori 10th Anniversary@渋川 Casa Midori
DESCRIPTION:夢野カブ \nナカムラ♠︎ \nO.A. みんみん \nOPEN 18:00\nSTART 19:00 \nチャージ：3\,000円 +1drink
URL:https://yumenokabu.com/event/3698/
LOCATION:渋川 Casa Midori\, 〒377-0005 群馬県渋川市有馬1080-3
CATEGORIES:関東
ATTACH;FMTTYPE=image/jpeg:https://yumenokabu.com/wp-content/uploads/2026/02/S__81674334.jpg
END:VEVENT
BEGIN:VEVENT
DTSTART;TZID=Asia/Tokyo:20260315T163000
DTEND;TZID=Asia/Tokyo:20260315T163000
DTSTAMP:20260423T124950
CREATED:20260223T045856Z
LAST-MODIFIED:20260223T045856Z
UID:3762-1773592200-1773592200@yumenokabu.com
SUMMARY:「渋川大宴会」@渋川 Casa Midori
DESCRIPTION:夢野カブ \n高平悠バンド \n東京ペッパーズ \nくぅちゃん (from Romping Monkeye’s) \nOPEN 16:00\nSTART 16:00\nチャージ：3\,000円 +1drink
URL:https://yumenokabu.com/event/3762/
LOCATION:渋川 Casa Midori\, 〒377-0005 群馬県渋川市有馬1080-3
CATEGORIES:関東
ATTACH;FMTTYPE=image/jpeg:https://yumenokabu.com/wp-content/uploads/2026/02/S__34152454.jpg
END:VEVENT
BEGIN:VEVENT
DTSTART;TZID=Asia/Tokyo:20260402T180000
DTEND;TZID=Asia/Tokyo:20260402T180000
DTSTAMP:20260423T124950
CREATED:20260317T053738Z
LAST-MODIFIED:20260317T081141Z
UID:3884-1775152800-1775152800@yumenokabu.com
SUMMARY:華村灰太郎 生誕祭2026
DESCRIPTION:華村灰太郎/つの犬/本格燒酎/高岡大祐/桜井芳樹/福島ピート幹夫/湊雅史/ 橋本じゅん/ 早川岳晴/ 川畑usi智史/藤原マヒト/原田哲也/佐藤綾音/夢野カブ/吉之力/Bunchin/桑畑怜吾/吉岡優三/佐藤えりか/克田響/小川千果/ ホープ＆マッカラーズ（桜井芳劇/関島岳郎/高岡大祐/北山ゆう子）\nOPEN 18:00 START 18:30\n3.000円 +1drink\n予約・お問合せ\ntel.03-3337-5745\ninfo@showboat.co.jp
URL:https://yumenokabu.com/event/3884/
LOCATION:高円寺 SHOW BOAT\, 〒166-0002 東京都杉並区高円寺北3丁目17-2
CATEGORIES:関東
ATTACH;FMTTYPE=image/jpeg:https://yumenokabu.com/wp-content/uploads/2026/03/IMG_6066-1.jpeg
END:VEVENT
BEGIN:VEVENT
DTSTART;TZID=Asia/Tokyo:20260403T190000
DTEND;TZID=Asia/Tokyo:20260403T190000
DTSTAMP:20260423T124950
CREATED:20260311T023854Z
LAST-MODIFIED:20260311T023854Z
UID:3845-1775242800-1775242800@yumenokabu.com
SUMMARY:LIVE@小田原G's Cafe
DESCRIPTION:夢野カブ\nw/リトルキヨシ\nOPEN 18:30\nSTART 19:30\nチャージ：2\,53\,000円 +1drink
URL:https://yumenokabu.com/event/3845/
LOCATION:小田原 鴨宮 ジーズキャフェ\, 〒250-0874 神奈川県小田原市鴨宮342-7
CATEGORIES:関東
ATTACH;FMTTYPE=image/jpeg:https://yumenokabu.com/wp-content/uploads/2026/03/att.lrbbfRQ61aFTrchGdOtVTwBXnlGZCcfEw4larJ3BkqY.jpeg
END:VEVENT
BEGIN:VEVENT
DTSTART;TZID=Asia/Tokyo:20260404T190000
DTEND;TZID=Asia/Tokyo:20260404T190000
DTSTAMP:20260423T124950
CREATED:20260313T052747Z
LAST-MODIFIED:20260313T052747Z
UID:3880-1775329200-1775329200@yumenokabu.com
SUMMARY:佐藤研二プロデュース 徳島の巨匠 奇跡の再演!@西荻窪CLOP CLOP
DESCRIPTION:出演/青山義明/\nOPEN 19:00\nSTART 19:30\nチャージ：2\,500円 +1drink
URL:https://yumenokabu.com/event/3880/
LOCATION:西荻窪 CLOP CLOP\, 〒167-0054 東京都杉並区松庵3-39-11 シティコープ西荻B1F
CATEGORIES:関東
ATTACH;FMTTYPE=image/jpeg:https://yumenokabu.com/wp-content/uploads/2026/03/IMG_6010.jpeg
END:VEVENT
BEGIN:VEVENT
DTSTART;TZID=Asia/Tokyo:20260405T193000
DTEND;TZID=Asia/Tokyo:20260405T193000
DTSTAMP:20260423T124950
CREATED:20260202T062622Z
LAST-MODIFIED:20260202T062622Z
UID:3692-1775417400-1775417400@yumenokabu.com
SUMMARY:CLOP CLOP ANNIVERSARY LIVE THE SOUL NUTS@西荻窪 CLOP CLOP
DESCRIPTION:THE SOUL NUTS\n夢野カブ vo\,g\n澄田健 vo\,g\n早川岳晴 ba\n湊雅史 dr \nOPEN 18:30\nSTART 19:30 \nチャージ：3\,500円
URL:https://yumenokabu.com/event/3692/
LOCATION:西荻窪 CLOP CLOP\, 〒167-0054 東京都杉並区松庵3-39-11 シティコープ西荻B1F
CATEGORIES:関東
ATTACH;FMTTYPE=image/jpeg:https://yumenokabu.com/wp-content/uploads/2026/01/S__31866885.jpg
END:VEVENT
BEGIN:VEVENT
DTSTART;TZID=Asia/Tokyo:20260408T190000
DTEND;TZID=Asia/Tokyo:20260408T190000
DTSTAMP:20260423T124950
CREATED:20260313T050103Z
LAST-MODIFIED:20260313T050103Z
UID:3869-1775674800-1775674800@yumenokabu.com
SUMMARY:西荻窪 CLOP CLOP35thAnniversary LIVE
DESCRIPTION:夢野カブ\nw/松浦湊\nO.A.\nOPEN 19:00\nSTART 19:00\nチャージ\n前売 3.000円 +1drink\n当日 3500円 +1drink
URL:https://yumenokabu.com/event/3869/
LOCATION:西荻窪 CLOP CLOP\, 〒167-0054 東京都杉並区松庵3-39-11 シティコープ西荻B1F
CATEGORIES:関東
ATTACH;FMTTYPE=image/jpeg:https://yumenokabu.com/wp-content/uploads/2026/03/phonto-1.jpeg
END:VEVENT
BEGIN:VEVENT
DTSTART;TZID=Asia/Tokyo:20260409T193000
DTEND;TZID=Asia/Tokyo:20260409T193000
DTSTAMP:20260423T124950
CREATED:20260310T135206Z
LAST-MODIFIED:20260310T135850Z
UID:3836-1775763000-1775763000@yumenokabu.com
SUMMARY:LIVE@下北沢 空飛ぶこぶたや
DESCRIPTION:夢野カブ\nw/モアリズムナカムラ♠︎ ナオユキ（スタンダップコメディー） \nOPEN 18:30\nSTART 19:30\nチャージ：3000円 +1drink（1drink付）
URL:https://yumenokabu.com/event/3836/
LOCATION:空飛ぶこぶたや\, 東京都世田谷区北沢2-19-17沢田屋ビルB1
CATEGORIES:関東
ATTACH;FMTTYPE=image/jpeg:https://yumenokabu.com/wp-content/uploads/2026/03/IMG_5980.jpeg
END:VEVENT
END:VCALENDAR